BEGIN:VCALENDAR
VERSION:2.0
PRODID:-//Miami Ticket Guide - ECPv6.15.17.1//NONSGML v1.0//EN
CALSCALE:GREGORIAN
METHOD:PUBLISH
X-ORIGINAL-URL:https://miamiticketguide.com
X-WR-CALDESC:Events for Miami Ticket Guide
REFRESH-INTERVAL;VALUE=DURATION:PT1H
X-Robots-Tag:noindex
X-PUBLISHED-TTL:PT1H
BEGIN:VTIMEZONE
TZID:America/New_York
BEGIN:DAYLIGHT
TZOFFSETFROM:-0500
TZOFFSETTO:-0400
TZNAME:EDT
DTSTART:20250309T070000
END:DAYLIGHT
BEGIN:STANDARD
TZOFFSETFROM:-0400
TZOFFSETTO:-0500
TZNAME:EST
DTSTART:20251102T060000
END:STANDARD
BEGIN:DAYLIGHT
TZOFFSETFROM:-0500
TZOFFSETTO:-0400
TZNAME:EDT
DTSTART:20260308T070000
END:DAYLIGHT
BEGIN:STANDARD
TZOFFSETFROM:-0400
TZOFFSETTO:-0500
TZNAME:EST
DTSTART:20261101T060000
END:STANDARD
BEGIN:DAYLIGHT
TZOFFSETFROM:-0500
TZOFFSETTO:-0400
TZNAME:EDT
DTSTART:20270314T070000
END:DAYLIGHT
BEGIN:STANDARD
TZOFFSETFROM:-0400
TZOFFSETTO:-0500
TZNAME:EST
DTSTART:20271107T060000
END:STANDARD
END:VTIMEZONE
BEGIN:VEVENT
DTSTART;TZID=America/New_York:20260524T134000
DTEND;TZID=America/New_York:20260525T000000
DTSTAMP:20260419T111137
CREATED:20250827T134449Z
LAST-MODIFIED:20260408T042258Z
UID:10001497-1779630000-1779667200@miamiticketguide.com
SUMMARY:Miami Marlins vs New York Mets
DESCRIPTION:Miami Marlins vs New York Mets\nMiami Marlins vs. New York Mets Tickets – May 24\, 2026 at LoanDepot Park – Book Now! \nMiami Marlins vs. New York Mets tickets are now available for an exciting MLB Sunday matchup in Miami! Join the action on Sunday\, May 24\, 2026\, at 1:40 PM at LoanDepot Park as the Miami Marlins take on the New York Mets in a thrilling afternoon game. \nThis weekend clash is perfect for families and baseball fans looking to enjoy live MLB action in a lively and fun atmosphere. Watch top players deliver powerful hits\, strategic plays\, and competitive pitching in one of Miami’s premier sports venues. Whether you’re cheering for the Marlins or supporting the Mets\, this game promises nonstop excitement. \nEvent Details: \n\nWhen: Sunday\, May 24\, 2026\nTime: 1:40 PM\nWhere: LoanDepot Park\, Miami\, FL\nMatch: Miami Marlins vs. New York Mets\n\nTickets are selling fast for this popular weekend game. Don’t miss your chance to be part of the live action. \nGet tickets for this event: BUY NOW. \nFor more details about upcoming events\, click here.
URL:https://miamiticketguide.com/event/miami-marlins-vs-new-york-mets-may-24/
LOCATION:LoanDepot Park\, 501 Marlins Way\, Miami\, United States Of America
CATEGORIES:Miami Marlins,Sports
ATTACH;FMTTYPE=image/jpeg:https://miamiticketguide.com/wp-content/uploads/2025/08/Miami-Marlins-vs-New-York-Mets.jpg
END:VEVENT
BEGIN:VEVENT
DTSTART;TZID=America/New_York:20260529T000000
DTEND;TZID=America/New_York:20260530T045900
DTSTAMP:20260419T111137
CREATED:20250827T114334Z
LAST-MODIFIED:20260408T035642Z
UID:10001496-1780012800-1780117140@miamiticketguide.com
SUMMARY:New York Mets vs Miami Marlins
DESCRIPTION:New York Mets vs Miami Marlins\nNew York Mets vs Miami Marlins: Bobby Valentine Disguise Tickets – May 29\, 2026 at Citi Field – Reserve Your Seats Now! \nNew York Mets vs Miami Marlins: Bobby Valentine Disguise tickets are now on sale for a unique and exciting MLB experience! Join the action on Friday\, May 29\, 2026\, at 7:10 PM at Citi Field in Flushing\, NY\, where the New York Mets face the Miami Marlins in a thrilling night game. \nThis special themed event celebrates the famous Bobby Valentine disguise moment\, adding a fun twist to an already exciting baseball matchup. Fans can enjoy a lively stadium atmosphere\, top MLB talent\, and unforgettable moments under the lights. It’s the perfect event for baseball lovers\, families\, and groups of friends looking for a memorable night out in New York. \nEvent Details: \n\nWhen: Friday\, May 29\, 2026\nTime: 7:10 PM\nWhere: Citi Field\, Flushing\, NY\nMatch: New York Mets vs Miami Marlins\n\nTickets are in high demand for this themed MLB game. Don’t miss your chance to be part of the excitement. \nGet tickets for this event: BUY NOW. \nFor more details about upcoming events\, click here.
URL:https://miamiticketguide.com/event/new-york-mets-vs-miami-marlins-3/
LOCATION:Citi Field\, 120-01 Roosevelt Avenue\, Flushing\, United States Of America
CATEGORIES:Miami Marlins,Sports
ATTACH;FMTTYPE=image/jpeg:https://miamiticketguide.com/wp-content/uploads/2025/08/New-York-Mets-vs-Miami-Marlins-.jpg
END:VEVENT
BEGIN:VEVENT
DTSTART;TZID=America/New_York:20260605T000000
DTEND;TZID=America/New_York:20260606T045900
DTSTAMP:20260419T111137
CREATED:20250827T114333Z
LAST-MODIFIED:20260408T052332Z
UID:10001495-1780617600-1780721940@miamiticketguide.com
SUMMARY:Miami Marlins vs Tampa Bay Rays
DESCRIPTION:Miami Marlins vs Tampa Bay Rays\nMiami Marlins vs Tampa Bay Rays Tickets – June 5\, 2026 at LoanDepot Park – Book Now! \nMiami Marlins vs. Tampa Bay Rays tickets are now available for an exciting Friday night MLB showdown in Miami! Join the action on Friday\, June 5\, 2026\, at 7:10 PM at LoanDepot Park as the Miami Marlins take on the Tampa Bay Rays in a thrilling division matchup. \nEnjoy an electric evening filled with live baseball\, passionate fans\, and high-level competition. Watch top MLB players deliver powerful hits\, precise pitching\, and fast-paced plays that keep you on the edge of your seat. This night game is the perfect way to kick off your weekend with friends and family. \nEvent Details: \n\nWhen: Friday\, June 5\, 2026\nTime: 7:10 PM\nWhere: LoanDepot Park\, Miami\, FL\nMatch: Miami Marlins vs. Tampa Bay Rays\n\nTickets are in high demand for this exciting weekend opener. Don’t miss your chance to experience the energy of live MLB baseball. \nGet tickets for this event: BUY NOW. \nFor more details about upcoming events\, click here.
URL:https://miamiticketguide.com/event/miami-marlins-vs-tampa-bay-rays-jun-5/
LOCATION:LoanDepot Park\, 501 Marlins Way\, Miami\, United States Of America
CATEGORIES:Miami Marlins,Sports
ATTACH;FMTTYPE=image/jpeg:https://miamiticketguide.com/wp-content/uploads/2025/08/Miami-Marlins-vs-Tampa-Bay-Rays-1-1.jpg
END:VEVENT
BEGIN:VEVENT
DTSTART;TZID=America/New_York:20260606T161000
DTEND;TZID=America/New_York:20260607T000000
DTSTAMP:20260419T111137
CREATED:20250827T124331Z
LAST-MODIFIED:20260408T052103Z
UID:10001494-1780762200-1780790400@miamiticketguide.com
SUMMARY:Miami Marlins vs Tampa Bay Rays
DESCRIPTION:Miami Marlins vs Tampa Bay Rays\nMiami Marlins vs Tampa Bay Rays Tickets – June 6\, 2026 at LoanDepot Park – Book Now! \nMiami Marlins vs. Tampa Bay Rays tickets are now available for an exciting MLB matchup in Miami! Don’t miss this thrilling game on Saturday\, June 6\, 2026\, at 4:10 PM at LoanDepot Park\, where the Miami Marlins will face the Tampa Bay Rays in a competitive showdown. \nEnjoy a perfect Saturday evening filled with live baseball action\, energetic crowds\, and unforgettable moments. Watch top MLB talent compete with powerful hitting\, strategic plays\, and fast-paced excitement. Whether you’re cheering for the Marlins or supporting the Rays\, this game offers an incredible live sports experience for all fans. \nEvent Details: \n\nWhen: Saturday\, June 6\, 2026\nTime: 4:10 PM\nWhere: LoanDepot Park\, Miami\, FL\nMatch: Miami Marlins vs. Tampa Bay Rays\n\nTickets are selling fast due to strong demand for weekend games. Don’t miss your chance to be part of the action. \nGet tickets for this event: BUY NOW. \nFor more details about upcoming events\, click here.
URL:https://miamiticketguide.com/event/miami-marlins-vs-tampa-bay-rays-jun-6/
LOCATION:LoanDepot Park\, 501 Marlins Way\, Miami\, United States Of America
CATEGORIES:Miami Marlins,Sports
ATTACH;FMTTYPE=image/jpeg:https://miamiticketguide.com/wp-content/uploads/2025/08/Miami-Marlins-vs-Tampa-Bay-Rays-.jpg
END:VEVENT
BEGIN:VEVENT
DTSTART;TZID=America/New_York:20260607T000000
DTEND;TZID=America/New_York:20260608T045900
DTSTAMP:20260419T111137
CREATED:20250827T134447Z
LAST-MODIFIED:20260408T051831Z
UID:10001493-1780790400-1780894740@miamiticketguide.com
SUMMARY:Miami Marlins vs Tampa Bay Rays
DESCRIPTION:Miami Marlins vs Tampa Bay Rays\nMiami Marlins vs Tampa Bay Rays Tickets – June 7\, 2026 at LoanDepot Park – Book Now! \nMiami Marlins vs. Tampa Bay Rays tickets are now available for an exciting Sunday afternoon MLB matchup in Miami! Experience the thrill live on Sunday\, June 7\, 2026\, at 1:40 PM at LoanDepot Park\, where the Miami Marlins take on the Tampa Bay Rays in a high-energy baseball clash. \nThis daytime game is perfect for families\, friends\, and baseball fans looking to enjoy top-tier MLB action in a vibrant atmosphere. Watch elite players showcase their skills with powerful batting\, sharp pitching\, and fast-paced gameplay. Whether you’re cheering for the Marlins or supporting the Rays\, this matchup promises unforgettable moments. \nEvent Details: \n\nWhen: Sunday\, June 7\, 2026\nTime: 1:40 PM\nWhere: LoanDepot Park\, Miami\, FL\nMatch: Miami Marlins vs. Tampa Bay Rays\n\nTickets are selling quickly for this popular weekend game. Don’t miss your chance to be part of the excitement. \nGet tickets for this event: BUY NOW. \nFor more details about upcoming events\, click here.
URL:https://miamiticketguide.com/event/miami-marlins-vs-tampa-bay-rays-jun-7/
LOCATION:LoanDepot Park\, 501 Marlins Way\, Miami\, United States Of America
CATEGORIES:Miami Marlins,Sports
ATTACH;FMTTYPE=image/jpeg:https://miamiticketguide.com/wp-content/uploads/2025/08/Miami-Marlins-vs-Tampa-Bay-Rays.jpg
END:VEVENT
BEGIN:VEVENT
DTSTART;TZID=America/New_York:20260619T191000
DTEND;TZID=America/New_York:20260620T000000
DTSTAMP:20260419T111137
CREATED:20250827T114332Z
LAST-MODIFIED:20260408T045828Z
UID:10001492-1781896200-1781913600@miamiticketguide.com
SUMMARY:Miami Marlins vs San Francisco Giants
DESCRIPTION:Miami Marlins vs San Francisco Giants\nMiami Marlins vs San Francisco Giants Tickets – June 19\, 2026 at LoanDepot Park – Book Now! \nMiami Marlins vs. San Francisco Giants tickets are now available for an exciting MLB matchup in Miami! Join the action on Friday\, June 19\, 2026\, at 7:10 PM at the iconic LoanDepot Park. This evening game promises an electric atmosphere as the Miami Marlins take on the San Francisco Giants in a thrilling baseball showdown. \nFans can enjoy top-level MLB action\, powerful hitting\, and competitive pitching in one of Miami’s premier sports venues. Whether you’re a dedicated Marlins supporter or backing the Giants\, this game offers the perfect live sports experience for friends and families alike. \nEvent Details: \n\nWhen: Friday\, June 19\, 2026\nTime: 7:10 PM\nWhere: LoanDepot Park\, Miami\, FL\nMatch: Miami Marlins vs. San Francisco Giants\n\nTickets are in high demand\, especially for this prime-time game. Don’t miss your chance to witness the excitement live from the stands. \nGet tickets for this event: BUY NOW. \nFor more details about upcoming events\, click here.
URL:https://miamiticketguide.com/event/miami-marlins-vs-san-francisco-giants-jun-19/
LOCATION:LoanDepot Park\, 501 Marlins Way\, Miami\, United States Of America
CATEGORIES:Miami Marlins,Sports
ATTACH;FMTTYPE=image/jpeg:https://miamiticketguide.com/wp-content/uploads/2025/08/Miami-Marlins-vs-San-Francisco-Giants-1-2.jpg
END:VEVENT
BEGIN:VEVENT
DTSTART;TZID=America/New_York:20260620T161000
DTEND;TZID=America/New_York:20260621T000000
DTSTAMP:20260419T111137
CREATED:20250827T124330Z
LAST-MODIFIED:20260408T045753Z
UID:10001491-1781971800-1782000000@miamiticketguide.com
SUMMARY:Miami Marlins vs San Francisco Giants
DESCRIPTION:Miami Marlins vs San Francisco Giants\nMiami Marlins vs San Francisco Giants: Flanigan’s Cup Tickets – Buy Now! \nGet ready for an exciting MLB showdown at LoanDepot Park as the Miami Marlins face off against the San Francisco Giants in the Miami Marlins vs San Francisco Giants: Flanigan’s Cup! This thrilling matchup takes place on Saturday\, June 20\, 2026\, at 4:10 PM in Miami\, Florida. \nBaseball fans can expect an energetic atmosphere\, competitive plays\, and unforgettable moments as two top teams battle it out on the field. Whether you’re a loyal Marlins supporter or cheering for the Giants\, this game promises non-stop action and entertainment for all ages. \nEvent Details: \n\nEvent: Miami Marlins vs San Francisco Giants: Flanigan’s Cup\nDate: Saturday\, June 20\, 2026\nTime: 4:10 PM\nVenue: LoanDepot Park\, Miami\, FL\n\nTickets are available now\, but they’re selling fast due to high demand. Don’t miss your chance to experience live MLB action in one of Miami’s premier sports venues. Secure your seats today and be part of this exciting baseball event! \nGet tickets for this event: BUY NOW. \nFor more details about upcoming events\, click here.
URL:https://miamiticketguide.com/event/miami-marlins-vs-san-francisco-giants-jun-20/
LOCATION:LoanDepot Park\, 501 Marlins Way\, Miami\, United States Of America
CATEGORIES:Miami Marlins,Sports
ATTACH;FMTTYPE=image/jpeg:https://miamiticketguide.com/wp-content/uploads/2025/08/Miami-Marlins-vs-San-Francisco-Giants-1-1.jpg
END:VEVENT
END:VCALENDAR