BEGIN:VCALENDAR
VERSION:2.0
PRODID:-//Miami Ticket Guide - ECPv6.15.17.1//NONSGML v1.0//EN
CALSCALE:GREGORIAN
METHOD:PUBLISH
X-WR-CALNAME:Miami Ticket Guide
X-ORIGINAL-URL:https://miamiticketguide.com
X-WR-CALDESC:Events for Miami Ticket Guide
REFRESH-INTERVAL;VALUE=DURATION:PT1H
X-Robots-Tag:noindex
X-PUBLISHED-TTL:PT1H
BEGIN:VTIMEZONE
TZID:America/New_York
BEGIN:DAYLIGHT
TZOFFSETFROM:-0500
TZOFFSETTO:-0400
TZNAME:EDT
DTSTART:20250309T070000
END:DAYLIGHT
BEGIN:STANDARD
TZOFFSETFROM:-0400
TZOFFSETTO:-0500
TZNAME:EST
DTSTART:20251102T060000
END:STANDARD
BEGIN:DAYLIGHT
TZOFFSETFROM:-0500
TZOFFSETTO:-0400
TZNAME:EDT
DTSTART:20260308T070000
END:DAYLIGHT
BEGIN:STANDARD
TZOFFSETFROM:-0400
TZOFFSETTO:-0500
TZNAME:EST
DTSTART:20261101T060000
END:STANDARD
BEGIN:DAYLIGHT
TZOFFSETFROM:-0500
TZOFFSETTO:-0400
TZNAME:EDT
DTSTART:20270314T070000
END:DAYLIGHT
BEGIN:STANDARD
TZOFFSETFROM:-0400
TZOFFSETTO:-0500
TZNAME:EST
DTSTART:20271107T060000
END:STANDARD
END:VTIMEZONE
BEGIN:VEVENT
DTSTART;TZID=America/New_York:20260414T190000
DTEND;TZID=America/New_York:20260415T010000
DTSTAMP:20260421T055716
CREATED:20250506T044251Z
LAST-MODIFIED:20250511T173915Z
UID:10001024-1776193200-1776214800@miamiticketguide.com
SUMMARY:Calum Scott - The Avenoir Tour 2026
DESCRIPTION:Calum Scott – The Avenoir Tour 2026\nCalum Scott – The Avenoir Tour 2026 Live in Fort Lauderdale – April 14\, 2026 – Reserve your tickets now! \nGet ready\, Fort Lauderdale! Calum Scott is bringing his “The Avenoir Tour 2026” to Revolution Live on Tuesday\, April 14\, 2026. Doors open at 7:00 PM for an all-ages show filled with heartfelt performances. Experience his soulful voice live and be part of an unforgettable night. \nEvent Details: \n\nDate: Tuesday\, April 14\, 2026\nTime: Doors at 7:00 PM\nVenue: Revolution Live\, Fort Lauderdale\, FL\nTickets: Starting at $39.50\n\nDon’t miss this chance to see Calum Scott live in Fort Lauderdale. Secure your tickets now and join us for an evening of incredible music! \nGet tickets for this event on: Buy Now. \nFor more details about upcoming events\, click here.
URL:https://miamiticketguide.com/event/calum-scott-the-avenoir-tour-2026/
LOCATION:Revolution Live\, 100 SW 3rd Ave\, Ft Lauderdale\, United States Of America
CATEGORIES:Music
ATTACH;FMTTYPE=image/png:https://miamiticketguide.com/wp-content/uploads/2025/05/vc-18.png
END:VEVENT
END:VCALENDAR