BEGIN:VCALENDAR
VERSION:2.0
PRODID:-//Miami Ticket Guide - ECPv6.15.17.1//NONSGML v1.0//EN
CALSCALE:GREGORIAN
METHOD:PUBLISH
X-WR-CALNAME:Miami Ticket Guide
X-ORIGINAL-URL:https://miamiticketguide.com
X-WR-CALDESC:Events for Miami Ticket Guide
REFRESH-INTERVAL;VALUE=DURATION:PT1H
X-Robots-Tag:noindex
X-PUBLISHED-TTL:PT1H
BEGIN:VTIMEZONE
TZID:America/New_York
BEGIN:DAYLIGHT
TZOFFSETFROM:-0500
TZOFFSETTO:-0400
TZNAME:EDT
DTSTART:20240310T070000
END:DAYLIGHT
BEGIN:STANDARD
TZOFFSETFROM:-0400
TZOFFSETTO:-0500
TZNAME:EST
DTSTART:20241103T060000
END:STANDARD
BEGIN:DAYLIGHT
TZOFFSETFROM:-0500
TZOFFSETTO:-0400
TZNAME:EDT
DTSTART:20250309T070000
END:DAYLIGHT
BEGIN:STANDARD
TZOFFSETFROM:-0400
TZOFFSETTO:-0500
TZNAME:EST
DTSTART:20251102T060000
END:STANDARD
BEGIN:DAYLIGHT
TZOFFSETFROM:-0500
TZOFFSETTO:-0400
TZNAME:EDT
DTSTART:20260308T070000
END:DAYLIGHT
BEGIN:STANDARD
TZOFFSETFROM:-0400
TZOFFSETTO:-0500
TZNAME:EST
DTSTART:20261101T060000
END:STANDARD
END:VTIMEZONE
BEGIN:VEVENT
DTSTART;TZID=America/New_York:20251122T200000
DTEND;TZID=America/New_York:20251123T030000
DTSTAMP:20260419T132753
CREATED:20250801T044300Z
LAST-MODIFIED:20251116T121358Z
UID:10001274-1763841600-1763866800@miamiticketguide.com
SUMMARY:Clara Ulrich - Yo Quiero Ser Mi Marido (18+)
DESCRIPTION:Clara Ulrich – Yo Quiero Ser Mi Marido\nGet ready for a heartfelt and hilarious night with Clara Ulrich in her stand-up show Yo Quiero Ser Mi Marido on Saturday\, November 22\, 2025\, at 8:00 PM at The Fillmore Miami Beach at Jackie Gleason Theater. \nClara\, the Argentine comedian and actress\, offers a playful exploration of modern relationships blending observational humor with touching personal stories. Her “very unserious investigation” into love\, partnership\, and cultural quirks will resonate whether you’re single\, in a relationship\, or just curious. \nThis show is strictly 18+\, so it’s perfect for an adult evening out. Doors open at 7:00 PM\, and attendees will be screened for restricted items before entry. No large bags allowed\, and no re-entry once you’re in. Valet parking is available for US$ 35 + tip\, or you can use nearby municipal lots. The venue is fully cashless\, with free water and phone charging stations throughout the first floor. Be sure to arrive early to beat the queue and ensure a smooth entry. \nGet tickets for this event: BUY NOW. \nFor more details about upcoming events\, click here.
URL:https://miamiticketguide.com/event/clara-ulrich-yo-quiero-ser-mi-marido-18/
LOCATION:The Fillmore Miami Beach at Jackie Gleason Theater\, 1700 Washington Ave\, Miami Beach\, United States Of America
CATEGORIES:Arts & Theatre
ATTACH;FMTTYPE=image/jpeg:https://miamiticketguide.com/wp-content/uploads/2025/08/Clara-Ulrich-Yo-Quiero-Ser-Mi-Marido-.jpeg
END:VEVENT
END:VCALENDAR