BEGIN:VCALENDAR
VERSION:2.0
PRODID:-//Miami Ticket Guide - ECPv6.15.17.1//NONSGML v1.0//EN
CALSCALE:GREGORIAN
METHOD:PUBLISH
X-ORIGINAL-URL:https://miamiticketguide.com
X-WR-CALDESC:Events for Miami Ticket Guide
REFRESH-INTERVAL;VALUE=DURATION:PT1H
X-Robots-Tag:noindex
X-PUBLISHED-TTL:PT1H
BEGIN:VTIMEZONE
TZID:America/New_York
BEGIN:DAYLIGHT
TZOFFSETFROM:-0500
TZOFFSETTO:-0400
TZNAME:EDT
DTSTART:20240310T070000
END:DAYLIGHT
BEGIN:STANDARD
TZOFFSETFROM:-0400
TZOFFSETTO:-0500
TZNAME:EST
DTSTART:20241103T060000
END:STANDARD
BEGIN:DAYLIGHT
TZOFFSETFROM:-0500
TZOFFSETTO:-0400
TZNAME:EDT
DTSTART:20250309T070000
END:DAYLIGHT
BEGIN:STANDARD
TZOFFSETFROM:-0400
TZOFFSETTO:-0500
TZNAME:EST
DTSTART:20251102T060000
END:STANDARD
BEGIN:DAYLIGHT
TZOFFSETFROM:-0500
TZOFFSETTO:-0400
TZNAME:EDT
DTSTART:20260308T070000
END:DAYLIGHT
BEGIN:STANDARD
TZOFFSETFROM:-0400
TZOFFSETTO:-0500
TZNAME:EST
DTSTART:20261101T060000
END:STANDARD
END:VTIMEZONE
BEGIN:VEVENT
DTSTART;TZID=America/New_York:20250502T210000
DTEND;TZID=America/New_York:20250503T070000
DTSTAMP:20260422T061251
CREATED:20250405T164235Z
LAST-MODIFIED:20250420T161615Z
UID:10000841-1746219600-1746255600@miamiticketguide.com
SUMMARY:James Kennedy
DESCRIPTION:James Kennedy\nCatch James Kennedy live at Komodo Dallas on May 2\, 2025 – Reserve your tickets now! \nGet ready for an unforgettable party as DJ\, producer\, and reality TV star Kennedy brings his high-energy set to Komodo Dallas. On Friday\, May 2\, from 9:00 PM to 2:00 AM\, the vibes are going to be electric at 2550 Pacific Ave\, Dallas\, TX. Expect loud beats\, packed dance floors\, and non-stop fun till late. \nKey Highlights: \n\nLive DJ set by James Kennedy – Reality star turned music powerhouse bringing his signature sound\nLate-night party vibes – From 9:00 PM to 2:00 AM at one of Dallas’ top venues\nUnmatched Komodo experience – Lux vibes\, great food\, drinks\, and dancing all night\nOnly one night – Don’t miss your chance to catch this exclusive appearance\n\nSecure your spot now before tickets sell out! \nGet tickets for this event on: Buy Now. \nFor more details about upcoming events\, click here.
URL:https://miamiticketguide.com/event/james-kennedy-may-2/
LOCATION:Komodo Dallas\, 2550 Pacific Ave\, Dallas\, United States Of America
CATEGORIES:Music
ATTACH;FMTTYPE=image/jpeg:https://miamiticketguide.com/wp-content/uploads/2025/04/8207-james-kennedy.jpg
END:VEVENT
END:VCALENDAR