BEGIN:VCALENDAR
VERSION:2.0
PRODID:-//Miami Ticket Guide - ECPv6.15.17.1//NONSGML v1.0//EN
CALSCALE:GREGORIAN
METHOD:PUBLISH
X-WR-CALNAME:Miami Ticket Guide
X-ORIGINAL-URL:https://miamiticketguide.com
X-WR-CALDESC:Events for Miami Ticket Guide
REFRESH-INTERVAL;VALUE=DURATION:PT1H
X-Robots-Tag:noindex
X-PUBLISHED-TTL:PT1H
BEGIN:VTIMEZONE
TZID:America/New_York
BEGIN:DAYLIGHT
TZOFFSETFROM:-0500
TZOFFSETTO:-0400
TZNAME:EDT
DTSTART:20240310T070000
END:DAYLIGHT
BEGIN:STANDARD
TZOFFSETFROM:-0400
TZOFFSETTO:-0500
TZNAME:EST
DTSTART:20241103T060000
END:STANDARD
BEGIN:DAYLIGHT
TZOFFSETFROM:-0500
TZOFFSETTO:-0400
TZNAME:EDT
DTSTART:20250309T070000
END:DAYLIGHT
BEGIN:STANDARD
TZOFFSETFROM:-0400
TZOFFSETTO:-0500
TZNAME:EST
DTSTART:20251102T060000
END:STANDARD
BEGIN:DAYLIGHT
TZOFFSETFROM:-0500
TZOFFSETTO:-0400
TZNAME:EDT
DTSTART:20260308T070000
END:DAYLIGHT
BEGIN:STANDARD
TZOFFSETFROM:-0400
TZOFFSETTO:-0500
TZNAME:EST
DTSTART:20261101T060000
END:STANDARD
END:VTIMEZONE
BEGIN:VEVENT
DTSTART;TZID=America/New_York:20251204T200000
DTEND;TZID=America/New_York:20251205T030000
DTSTAMP:20260419T085108
CREATED:20250822T074311Z
LAST-MODIFIED:20251124T074226Z
UID:10001299-1764878400-1764903600@miamiticketguide.com
SUMMARY:Juvenile
DESCRIPTION:Juvenile\nJuvenile – The Fillmore Miami Beach Tickets (Feb 28\, 2026) – BUY NOW ! \nJuvenile\, the legendary southern rap icon\, returns to The Fillmore Miami Beach at the Jackie Gleason Theater on Saturday\, February 28\, 2026\, at 8:00 PM. Originally slated for December 4\, 2025\, previously purchased tickets will be honored for this rescheduled date. \nExperience a blast from the past as Juvenile brings his classic bounce and southern rap energy to Miami Beach. Best known for his platinum hits like Slow Motion and Back That Azz Up\, Juvenile delivers a high-energy set steeped in the golden era of hip-hop. This concert is your chance to see a rap pioneer connect with old-school fans and new admirers alike. With a rescheduled date secured\, there’s no better time to grab tickets and feel that southern swagger. Whether you’re a longtime fan or discovering his impact for the first time\, this night promises nostalgia\, energy\, and raw talent. \nEvent Details: \n\nWhen: Saturday\, February 28\, 2026 · 8:00 PM\nWhere: The Fillmore Miami Beach at Jackie Gleason Theater\, Miami Beach\, FL\nTickets: Available via resale; prices may go above face value.\n\nGet tickets for this event: BUY NOW. \nFor more details about upcoming events\, click here.
URL:https://miamiticketguide.com/event/juvenile/
LOCATION:The Fillmore Miami Beach at Jackie Gleason Theater\, 1700 Washington Ave\, Miami Beach\, United States Of America
CATEGORIES:Music
ATTACH;FMTTYPE=image/jpeg:https://miamiticketguide.com/wp-content/uploads/2025/08/Juvenile-.jpg
END:VEVENT
END:VCALENDAR