BEGIN:VCALENDAR
VERSION:2.0
PRODID:-//Miami Ticket Guide - ECPv6.15.17.1//NONSGML v1.0//EN
CALSCALE:GREGORIAN
METHOD:PUBLISH
X-WR-CALNAME:Miami Ticket Guide
X-ORIGINAL-URL:https://miamiticketguide.com
X-WR-CALDESC:Events for Miami Ticket Guide
REFRESH-INTERVAL;VALUE=DURATION:PT1H
X-Robots-Tag:noindex
X-PUBLISHED-TTL:PT1H
BEGIN:VTIMEZONE
TZID:America/New_York
BEGIN:DAYLIGHT
TZOFFSETFROM:-0500
TZOFFSETTO:-0400
TZNAME:EDT
DTSTART:20240310T070000
END:DAYLIGHT
BEGIN:STANDARD
TZOFFSETFROM:-0400
TZOFFSETTO:-0500
TZNAME:EST
DTSTART:20241103T060000
END:STANDARD
BEGIN:DAYLIGHT
TZOFFSETFROM:-0500
TZOFFSETTO:-0400
TZNAME:EDT
DTSTART:20250309T070000
END:DAYLIGHT
BEGIN:STANDARD
TZOFFSETFROM:-0400
TZOFFSETTO:-0500
TZNAME:EST
DTSTART:20251102T060000
END:STANDARD
BEGIN:DAYLIGHT
TZOFFSETFROM:-0500
TZOFFSETTO:-0400
TZNAME:EDT
DTSTART:20260308T070000
END:DAYLIGHT
BEGIN:STANDARD
TZOFFSETFROM:-0400
TZOFFSETTO:-0500
TZNAME:EST
DTSTART:20261101T060000
END:STANDARD
END:VTIMEZONE
BEGIN:VEVENT
DTSTART;TZID=America/New_York:20250418T200000
DTEND;TZID=America/New_York:20250419T000000
DTSTAMP:20260423T071021
CREATED:20250221T200231Z
LAST-MODIFIED:20250314T184949Z
UID:10000337-1745006400-1745020800@miamiticketguide.com
SUMMARY:Miami Hurricanes vs Georgia Tech Yellow Jackets - Apr 18 - Mark Light Field
DESCRIPTION:Miami Hurricanes vs Georgia Tech Yellow Jackets – Apr 18 – Mark Light Field\nMiami Hurricanes vs. Georgia Tech Yellow Jackets: A Can’t-Miss Baseball Game! \nHey baseball fans! Mark your calendars because on Friday\, April 18\, 2025\, the Miami Hurricanes are taking on the Georgia Tech Yellow Jackets in what’s sure to be an epic game. First pitch is at 8:00 PM at the legendary Mark Light Field in Miami\, Florida. \nClick here for the showtimes: TicketMaster. \nWhat’s the Deal? \nThis is a big one! The Hurricanes and Yellow Jackets are both powerhouse teams in college baseball\, so you know it’s going to be a competitive and exciting matchup. Whether you’re cheering for the home team or rooting for the visitors\, this game is going to be a blast. \nGrab your tickets early here: TicketMaster. \nWhere’s It Happening? \nThe game is at Mark Light Field\, the home of Miami Hurricanes baseball. It’s a classic spot with an amazing vibe—perfect for a night of baseball under the lights. \nHow Do I Get Tickets? \nTickets are available on the Ticketmaster. If you want to snag a good seat without breaking the bank\, grab your tickets early! \nTickets are available here: TicketMaster. \nWhy Should I Go? \n\nGreat Baseball: Both teams are stacked with talent\, so expect some serious action on the field.\nAwesome Atmosphere: Mark Light Field is known for its energy\, especially when the Hurricanes are playing.\nFun for Everyone: Whether you’re a hardcore fan or just looking for a fun night out\, this game is the place to be.\n\nSo\, what are you waiting for? Grab your friends\, family\, or fellow fans and get ready for a night of home runs\, strikeouts\, and unforgettable moments. Don’t miss out—see you at the ballpark! \nGet tickets for this event on: TicketMaster. \nFor more event updates visit here.
URL:https://miamiticketguide.com/event/miami-hurricanes-vs-georgia-tech-yellow-jackets/
LOCATION:Mark Light Field\, Miami\, United States Of America
CATEGORIES:Miami Hurricanes,Sports
ATTACH;FMTTYPE=image/jpeg:https://miamiticketguide.com/wp-content/uploads/2025/02/1625-miami-hurricanes-baseball-vs-georgia-tech-yellow-jackets-baseball.jpg
END:VEVENT
END:VCALENDAR