BEGIN:VCALENDAR
VERSION:2.0
PRODID:-//Miami Ticket Guide - ECPv6.15.17.1//NONSGML v1.0//EN
CALSCALE:GREGORIAN
METHOD:PUBLISH
X-WR-CALNAME:Miami Ticket Guide
X-ORIGINAL-URL:https://miamiticketguide.com
X-WR-CALDESC:Events for Miami Ticket Guide
REFRESH-INTERVAL;VALUE=DURATION:PT1H
X-Robots-Tag:noindex
X-PUBLISHED-TTL:PT1H
BEGIN:VTIMEZONE
TZID:America/New_York
BEGIN:DAYLIGHT
TZOFFSETFROM:-0500
TZOFFSETTO:-0400
TZNAME:EDT
DTSTART:20240310T070000
END:DAYLIGHT
BEGIN:STANDARD
TZOFFSETFROM:-0400
TZOFFSETTO:-0500
TZNAME:EST
DTSTART:20241103T060000
END:STANDARD
BEGIN:DAYLIGHT
TZOFFSETFROM:-0500
TZOFFSETTO:-0400
TZNAME:EDT
DTSTART:20250309T070000
END:DAYLIGHT
BEGIN:STANDARD
TZOFFSETFROM:-0400
TZOFFSETTO:-0500
TZNAME:EST
DTSTART:20251102T060000
END:STANDARD
BEGIN:DAYLIGHT
TZOFFSETFROM:-0500
TZOFFSETTO:-0400
TZNAME:EDT
DTSTART:20260308T070000
END:DAYLIGHT
BEGIN:STANDARD
TZOFFSETFROM:-0400
TZOFFSETTO:-0500
TZNAME:EST
DTSTART:20261101T060000
END:STANDARD
END:VTIMEZONE
BEGIN:VEVENT
DTSTART;TZID=America/New_York:20250320T190000
DTEND;TZID=America/New_York:20250320T230000
DTSTAMP:20260423T121713
CREATED:20250221T090740Z
LAST-MODIFIED:20250307T163128Z
UID:10000155-1742497200-1742511600@miamiticketguide.com
SUMMARY:Miami Hurricanes vs Florida State Seminoles - Mar 20 - Mark Light Field
DESCRIPTION:Miami Hurricanes vs Florida State Seminoles – Mar 20 – Mark Light Field\nMiami Hurricanes vs. Florida State Seminoles – Epic Baseball Rivalry! \n\n📅 Date: Thursday\, March 20\, 2025\n🕖 Time: 7:00 PM ET\n📍 Location: Mark Light Field\, Miami\, FL\nClick here for the showtimes: TicketMaster.\n\nGet ready for an electrifying showdown as the Miami Hurricanes take on their fierce rivals\, the Florida State Seminoles\, in a high-stakes ACC baseball matchup! This is more than just a game—it’s a battle of legends\, and you won’t want to miss a single pitch! \nCheck the available tickets now on: TicketMaster. \nWhy You Need to Be There: \n✅ One of the most intense rivalries in college baseball \n✅ A night of thrilling plays\, home runs\, and unforgettable moments \n✅ Special “Category 5 Night” theme to hype up the crowd! \nSecure Your Tickets Now! \nDon’t wait until it’s too late—grab your tickets and be part of the excitement at Mark Light Field! \nTag your friends and get ready for a night of non-stop baseball action! \nGet tickets for this event on: TicketMaster. \nClick here for more event updates.
URL:https://miamiticketguide.com/event/miami-hurricanes-vs-florida-state-seminoles-mar-20/
LOCATION:Mark Light Field\, Miami\, United States Of America
CATEGORIES:Miami Hurricanes,Sports
ATTACH;FMTTYPE=image/jpeg:https://miamiticketguide.com/wp-content/uploads/2025/02/1516-miami-hurricanes-baseball-vs-florida-state-seminoles-baseball.jpg
END:VEVENT
END:VCALENDAR