BEGIN:VCALENDAR
VERSION:2.0
PRODID:-//Miami Ticket Guide - ECPv6.15.17.1//NONSGML v1.0//EN
CALSCALE:GREGORIAN
METHOD:PUBLISH
X-ORIGINAL-URL:https://miamiticketguide.com
X-WR-CALDESC:Events for Miami Ticket Guide
REFRESH-INTERVAL;VALUE=DURATION:PT1H
X-Robots-Tag:noindex
X-PUBLISHED-TTL:PT1H
BEGIN:VTIMEZONE
TZID:America/New_York
BEGIN:DAYLIGHT
TZOFFSETFROM:-0500
TZOFFSETTO:-0400
TZNAME:EDT
DTSTART:20240310T070000
END:DAYLIGHT
BEGIN:STANDARD
TZOFFSETFROM:-0400
TZOFFSETTO:-0500
TZNAME:EST
DTSTART:20241103T060000
END:STANDARD
BEGIN:DAYLIGHT
TZOFFSETFROM:-0500
TZOFFSETTO:-0400
TZNAME:EDT
DTSTART:20250309T070000
END:DAYLIGHT
BEGIN:STANDARD
TZOFFSETFROM:-0400
TZOFFSETTO:-0500
TZNAME:EST
DTSTART:20251102T060000
END:STANDARD
BEGIN:DAYLIGHT
TZOFFSETFROM:-0500
TZOFFSETTO:-0400
TZNAME:EDT
DTSTART:20260308T070000
END:DAYLIGHT
BEGIN:STANDARD
TZOFFSETFROM:-0400
TZOFFSETTO:-0500
TZNAME:EST
DTSTART:20261101T060000
END:STANDARD
END:VTIMEZONE
BEGIN:VEVENT
DTSTART;TZID=America/New_York:20251017T000000
DTEND;TZID=America/New_York:20251018T035900
DTSTAMP:20260423T115604
CREATED:20250218T010021Z
LAST-MODIFIED:20250327T173849Z
UID:10000764-1760659200-1760759940@miamiticketguide.com
SUMMARY:Miami Hurricanes vs. Louisville Cardinals - Oct 17 - Hard Rock Stadium
DESCRIPTION:Miami Hurricanes vs. Louisville Cardinals – Oct 17 – Hard Rock Stadium\nMiami Hurricanes vs. Louisville Cardinals – Gameday in Miami! \nWhen? Friday\, October 17\, 2025 \nWhere? Hard Rock Stadium\, Miami\, FL \nClick here for the showtimes: TicketMaster. \nGet ready for a big-time ACC showdown under the lights! The Canes take on the Louisville Cardinals in what’s sure to be a fast\, physical\, and fun game. Both teams love to score points\, so expect fireworks from start to finish. \nWhy should you be hyped? \n\nElectric atmosphere – There’s nothing like a Miami home game\, especially at night.\nHigh-stakes football – This could be a key game for the ACC standings.\nStar players – Watch for Miami’s playmakers and Louisville’s explosive offense to put on a show.\n\nGrab your seats early: TicketMaster. \nWhether you’re tailgating\, watching from home\, or screaming your lungs off in the stands\, this is a matchup you won’t want to miss. \nKickoff time & TV info coming soon—stay tuned\, and Go Canes! \nGet tickets for this event on: TicketMaster. \nFor more event news\, visit here.
URL:https://miamiticketguide.com/event/miami-hurricanes-vs-louisville-cardinals-oct-17/
LOCATION:Hard Rock Stadium\, 347 Don Shula Drive\, Miami\, United States Of America
CATEGORIES:Miami Hurricanes,Sports
ATTACH;FMTTYPE=image/jpeg:https://miamiticketguide.com/wp-content/uploads/2025/02/145-miami-hurricanes-football-vs-louisville-cardinals-football.jpg
END:VEVENT
END:VCALENDAR