BEGIN:VCALENDAR
VERSION:2.0
PRODID:-//Miami Ticket Guide - ECPv6.15.17.1//NONSGML v1.0//EN
CALSCALE:GREGORIAN
METHOD:PUBLISH
X-ORIGINAL-URL:https://miamiticketguide.com
X-WR-CALDESC:Events for Miami Ticket Guide
REFRESH-INTERVAL;VALUE=DURATION:PT1H
X-Robots-Tag:noindex
X-PUBLISHED-TTL:PT1H
BEGIN:VTIMEZONE
TZID:America/New_York
BEGIN:DAYLIGHT
TZOFFSETFROM:-0500
TZOFFSETTO:-0400
TZNAME:EDT
DTSTART:20240310T070000
END:DAYLIGHT
BEGIN:STANDARD
TZOFFSETFROM:-0400
TZOFFSETTO:-0500
TZNAME:EST
DTSTART:20241103T060000
END:STANDARD
BEGIN:DAYLIGHT
TZOFFSETFROM:-0500
TZOFFSETTO:-0400
TZNAME:EDT
DTSTART:20250309T070000
END:DAYLIGHT
BEGIN:STANDARD
TZOFFSETFROM:-0400
TZOFFSETTO:-0500
TZNAME:EST
DTSTART:20251102T060000
END:STANDARD
BEGIN:DAYLIGHT
TZOFFSETFROM:-0500
TZOFFSETTO:-0400
TZNAME:EDT
DTSTART:20260308T070000
END:DAYLIGHT
BEGIN:STANDARD
TZOFFSETFROM:-0400
TZOFFSETTO:-0500
TZNAME:EST
DTSTART:20261101T060000
END:STANDARD
END:VTIMEZONE
BEGIN:VEVENT
DTSTART;TZID=America/New_York:20251115T000000
DTEND;TZID=America/New_York:20251116T045900
DTSTAMP:20260424T144748
CREATED:20250218T010013Z
LAST-MODIFIED:20250318T152759Z
UID:10000451-1763164800-1763269140@miamiticketguide.com
SUMMARY:Miami Hurricanes Football vs North Carolina State Wolfpack Football - Nov 15 - Hard Rock Stadium
DESCRIPTION:Miami Hurricanes Football vs North Carolina State Wolfpack Football – Nov 15 – Hard Rock Stadium\nGet Your Tickets for Miami Hurricanes Football vs North Carolina State Wolfpack Football\, now on TicketMaster! \nBe there as the Miami Hurricanes Football go head-to-head against the North Carolina State Wolfpack Football in a thrilling college football matchup at Hard Rock Stadium\, Miami\, FL\, on Saturday\, November 15\, 2025. This high-stakes game promises intense action\, passionate fans\, and unforgettable moments! \n🎟 Secure your seats now! Our Ticketmaster resale marketplace offers access to tickets before they sell out. Please note: This is a resale platform\, and ticket prices may exceed face value. \nFeel the energy of the crowd\, witness every touchdown\, and experience the excitement of live college football. Don’t miss your chance to be part of the action! \n🔥 Buy your tickets today and get ready for an epic showdown! \nFor more details about upcoming events\, click here.
URL:https://miamiticketguide.com/event/miami-hurricanes-football-vs-north-carolina-state-wolfpack-football/
LOCATION:Hard Rock Stadium\, 347 Don Shula Drive\, Miami\, United States Of America
CATEGORIES:Sports
ATTACH;FMTTYPE=image/jpeg:https://miamiticketguide.com/wp-content/uploads/2025/02/171-miami-hurricanes-football-vs-north-carolina-state-wolfpack-football.jpg
END:VEVENT
END:VCALENDAR