BEGIN:VCALENDAR
VERSION:2.0
PRODID:-//Miami Ticket Guide - ECPv6.15.17.1//NONSGML v1.0//EN
CALSCALE:GREGORIAN
METHOD:PUBLISH
X-ORIGINAL-URL:https://miamiticketguide.com
X-WR-CALDESC:Events for Miami Ticket Guide
REFRESH-INTERVAL;VALUE=DURATION:PT1H
X-Robots-Tag:noindex
X-PUBLISHED-TTL:PT1H
BEGIN:VTIMEZONE
TZID:America/New_York
BEGIN:DAYLIGHT
TZOFFSETFROM:-0500
TZOFFSETTO:-0400
TZNAME:EDT
DTSTART:20240310T070000
END:DAYLIGHT
BEGIN:STANDARD
TZOFFSETFROM:-0400
TZOFFSETTO:-0500
TZNAME:EST
DTSTART:20241103T060000
END:STANDARD
BEGIN:DAYLIGHT
TZOFFSETFROM:-0500
TZOFFSETTO:-0400
TZNAME:EDT
DTSTART:20250309T070000
END:DAYLIGHT
BEGIN:STANDARD
TZOFFSETFROM:-0400
TZOFFSETTO:-0500
TZNAME:EST
DTSTART:20251102T060000
END:STANDARD
BEGIN:DAYLIGHT
TZOFFSETFROM:-0500
TZOFFSETTO:-0400
TZNAME:EDT
DTSTART:20260308T070000
END:DAYLIGHT
BEGIN:STANDARD
TZOFFSETFROM:-0400
TZOFFSETTO:-0500
TZNAME:EST
DTSTART:20261101T060000
END:STANDARD
END:VTIMEZONE
BEGIN:VEVENT
DTSTART;TZID=America/New_York:20250602T184000
DTEND;TZID=America/New_York:20250602T224000
DTSTAMP:20260423T111253
CREATED:20250219T093241Z
LAST-MODIFIED:20250321T163638Z
UID:10000539-1748889600-1748904000@miamiticketguide.com
SUMMARY:Miami Marlins vs. Colorado Rockies - Jun 02 - LoanDepot Park
DESCRIPTION:Miami Marlins vs. Colorado Rockies – Jun 02 – LoanDepot Park\nGet ready for an exciting night of baseball! On Monday\, June 2\, 2025\, at 6:40 PM\, the Miami Marlins will be facing off against the Colorado Rockies at LoanDepot Park in Miami\, FL. Whether you’re a Marlins fan or cheering for the Rockies\, it’s going to be a great time at the ballpark. The game promises all the thrills of a live MLB matchup in the heart of Miami. So\, grab your tickets and head over for a fun evening of America’s favorite pastime! \nGet tickets for this event on: TicketMaster. \nFor more event updates\, visit here.
URL:https://miamiticketguide.com/event/miami-marlins-vs-colorado-rockies-jun-2/
LOCATION:LoanDepot Park\, 501 Marlins Way\, Miami\, United States Of America
CATEGORIES:Miami Marlins,Sports
ATTACH;FMTTYPE=image/jpeg:https://miamiticketguide.com/wp-content/uploads/2025/02/690-miami-marlins-vs-colorado-rockies.jpg
END:VEVENT
END:VCALENDAR