BEGIN:VCALENDAR
VERSION:2.0
PRODID:-//Miami Ticket Guide - ECPv6.15.17.1//NONSGML v1.0//EN
CALSCALE:GREGORIAN
METHOD:PUBLISH
X-WR-CALNAME:Miami Ticket Guide
X-ORIGINAL-URL:https://miamiticketguide.com
X-WR-CALDESC:Events for Miami Ticket Guide
REFRESH-INTERVAL;VALUE=DURATION:PT1H
X-Robots-Tag:noindex
X-PUBLISHED-TTL:PT1H
BEGIN:VTIMEZONE
TZID:America/New_York
BEGIN:DAYLIGHT
TZOFFSETFROM:-0500
TZOFFSETTO:-0400
TZNAME:EDT
DTSTART:20240310T070000
END:DAYLIGHT
BEGIN:STANDARD
TZOFFSETFROM:-0400
TZOFFSETTO:-0500
TZNAME:EST
DTSTART:20241103T060000
END:STANDARD
BEGIN:DAYLIGHT
TZOFFSETFROM:-0500
TZOFFSETTO:-0400
TZNAME:EDT
DTSTART:20250309T070000
END:DAYLIGHT
BEGIN:STANDARD
TZOFFSETFROM:-0400
TZOFFSETTO:-0500
TZNAME:EST
DTSTART:20251102T060000
END:STANDARD
BEGIN:DAYLIGHT
TZOFFSETFROM:-0500
TZOFFSETTO:-0400
TZNAME:EDT
DTSTART:20260308T070000
END:DAYLIGHT
BEGIN:STANDARD
TZOFFSETFROM:-0400
TZOFFSETTO:-0500
TZNAME:EST
DTSTART:20261101T060000
END:STANDARD
END:VTIMEZONE
BEGIN:VEVENT
DTSTART;TZID=America/New_York:20250620T191000
DTEND;TZID=America/New_York:20250620T231000
DTSTAMP:20260420T043222
CREATED:20250219T093237Z
LAST-MODIFIED:20250322T151054Z
UID:10000583-1750446600-1750461000@miamiticketguide.com
SUMMARY:Miami Marlins vs. Atlanta Braves - Jun 20 - LoanDepot Park
DESCRIPTION:Miami Marlins vs. Atlanta Braves – Jun 20 – LoanDepot Park\nGet ready for an exciting evening of baseball! On Friday\, June 20\, 2025\, the Miami Marlins will take on the Atlanta Braves at 7:10 PM at LoanDepot Park in Miami\, Florida. It’s the perfect way to spend a summer evening\, watching the action unfold in one of the coolest stadiums around. LoanDepot Park even has a retractable roof\, so there’s no need to worry about the weather messing with your plans. Whether you’re a big fan of baseball or just looking for a fun night out\, this game promises to bring plenty of energy and excitement. Don’t miss it! \nGet tickets for this event on: TicketMaster. \nFor more event news\, visit here.
URL:https://miamiticketguide.com/event/miami-marlins-vs-atlanta-braves-jun-20/
LOCATION:LoanDepot Park\, 501 Marlins Way\, Miami\, United States Of America
CATEGORIES:Miami Marlins,Sports
ATTACH;FMTTYPE=image/jpeg:https://miamiticketguide.com/wp-content/uploads/2025/02/704-miami-marlins-vs-atlanta-braves.jpg
END:VEVENT
END:VCALENDAR