BEGIN:VCALENDAR
VERSION:2.0
PRODID:-//Miami Ticket Guide - ECPv6.15.17.1//NONSGML v1.0//EN
CALSCALE:GREGORIAN
METHOD:PUBLISH
X-ORIGINAL-URL:https://miamiticketguide.com
X-WR-CALDESC:Events for Miami Ticket Guide
REFRESH-INTERVAL;VALUE=DURATION:PT1H
X-Robots-Tag:noindex
X-PUBLISHED-TTL:PT1H
BEGIN:VTIMEZONE
TZID:America/New_York
BEGIN:DAYLIGHT
TZOFFSETFROM:-0500
TZOFFSETTO:-0400
TZNAME:EDT
DTSTART:20240310T070000
END:DAYLIGHT
BEGIN:STANDARD
TZOFFSETFROM:-0400
TZOFFSETTO:-0500
TZNAME:EST
DTSTART:20241103T060000
END:STANDARD
BEGIN:DAYLIGHT
TZOFFSETFROM:-0500
TZOFFSETTO:-0400
TZNAME:EDT
DTSTART:20250309T070000
END:DAYLIGHT
BEGIN:STANDARD
TZOFFSETFROM:-0400
TZOFFSETTO:-0500
TZNAME:EST
DTSTART:20251102T060000
END:STANDARD
BEGIN:DAYLIGHT
TZOFFSETFROM:-0500
TZOFFSETTO:-0400
TZNAME:EDT
DTSTART:20260308T070000
END:DAYLIGHT
BEGIN:STANDARD
TZOFFSETFROM:-0400
TZOFFSETTO:-0500
TZNAME:EST
DTSTART:20261101T060000
END:STANDARD
END:VTIMEZONE
BEGIN:VEVENT
DTSTART;TZID=America/New_York:20250604T121000
DTEND;TZID=America/New_York:20250604T161000
DTSTAMP:20260423T143349
CREATED:20250219T133310Z
LAST-MODIFIED:20250321T170130Z
UID:10000541-1749039000-1749053400@miamiticketguide.com
SUMMARY:Miami Marlins vs. Colorado Rockies - Jun 04 - LoanDepot Park
DESCRIPTION:Miami Marlins vs. Colorado Rockies – Jun 04 – LoanDepot Park\nJoin us for a midday baseball game on Wednesday\, June 4\, 2025\, as the Miami Marlins take on the Colorado Rockies at LoanDepot Park in Miami! The game starts at 12:10 PM\, making it the perfect way to enjoy some afternoon fun. \nClick here for the showtimes: TicketMaster. \nThis game is part of a series between the two teams\, so if you missed the previous one\, this is another great chance to catch the action live. Whether you are a local or just visiting\, it’s an awesome way to spend your afternoon. \nTickets are available now\, so grab yours soon and get ready for a fun day at the ballpark! It’s the perfect chance to enjoy the game with friends or family in beautiful Miami. \nGet tickets for this event on: TicketMaster. \nFor more event updates\, visit here.
URL:https://miamiticketguide.com/event/miami-marlins-vs-colorado-rockies-jun-4/
LOCATION:LoanDepot Park\, 501 Marlins Way\, Miami\, United States Of America
CATEGORIES:Miami Marlins,Sports
ATTACH;FMTTYPE=image/jpeg:https://miamiticketguide.com/wp-content/uploads/2025/02/783-miami-marlins-vs-colorado-rockies.jpg
END:VEVENT
END:VCALENDAR