BEGIN:VCALENDAR
VERSION:2.0
PRODID:-//Miami Ticket Guide - ECPv6.15.17.1//NONSGML v1.0//EN
CALSCALE:GREGORIAN
METHOD:PUBLISH
X-ORIGINAL-URL:https://miamiticketguide.com
X-WR-CALDESC:Events for Miami Ticket Guide
REFRESH-INTERVAL;VALUE=DURATION:PT1H
X-Robots-Tag:noindex
X-PUBLISHED-TTL:PT1H
BEGIN:VTIMEZONE
TZID:America/New_York
BEGIN:DAYLIGHT
TZOFFSETFROM:-0500
TZOFFSETTO:-0400
TZNAME:EDT
DTSTART:20240310T070000
END:DAYLIGHT
BEGIN:STANDARD
TZOFFSETFROM:-0400
TZOFFSETTO:-0500
TZNAME:EST
DTSTART:20241103T060000
END:STANDARD
BEGIN:DAYLIGHT
TZOFFSETFROM:-0500
TZOFFSETTO:-0400
TZNAME:EDT
DTSTART:20250309T070000
END:DAYLIGHT
BEGIN:STANDARD
TZOFFSETFROM:-0400
TZOFFSETTO:-0500
TZNAME:EST
DTSTART:20251102T060000
END:STANDARD
BEGIN:DAYLIGHT
TZOFFSETFROM:-0500
TZOFFSETTO:-0400
TZNAME:EDT
DTSTART:20260308T070000
END:DAYLIGHT
BEGIN:STANDARD
TZOFFSETFROM:-0400
TZOFFSETTO:-0500
TZNAME:EST
DTSTART:20261101T060000
END:STANDARD
END:VTIMEZONE
BEGIN:VEVENT
DTSTART;TZID=America/New_York:20250308T184000
DTEND;TZID=America/New_York:20250308T234000
DTSTAMP:20260424T090237
CREATED:20250220T055327Z
LAST-MODIFIED:20250305T164842Z
UID:10000086-1741459200-1741477200@miamiticketguide.com
SUMMARY:Miami Marlins vs New York Mets - Mar 08 at Roger Dean Chevrolet Stadium
DESCRIPTION:Miami Marlins vs New York Mets – Mar 08 at Roger Dean Chevrolet Stadium\nEvent: Miami Marlins vs. New York Mets – Spring Training Game \n\n📍 Location: Roger Dean Chevrolet Stadium\, Jupiter\, FL\n🗓 Date: Saturday\, March 8\, 2025\n⏰ Time: 6:40 PM\nClick here for the showtimes: TicketMaster.\n\nGet ready for an exciting spring training matchup as the Miami Marlins take on the New York Mets at Roger Dean Chevrolet Stadium! This game is part of the team’s preparations for the upcoming MLB season\, giving fans a chance to see their favorite players in action before Opening Day. \nBuy your tickets now here: TicketMaster. \nWhy You Should Attend: \n✅ Watch top MLB talent up close \n✅ Enjoy a family-friendly atmosphere \n✅ Experience the thrill of baseball before the regular season begins \n🎟 Tickets: Visit HERE to get the Miami Marlins or Roger Dean Chevrolet Stadium for ticket availability and updates. \nDon’t miss out on the action—come cheer for your team! \nGet tickets for this event on: TicketMaster. \nClick here for more event updates.
URL:https://miamiticketguide.com/event/miami-marlins-vs-new-york-mets-mar-08/
LOCATION:Roger Dean Chevrolet Stadium\, 4751 Main St.\, Jupiter\, United States Of America
CATEGORIES:Miami Marlins,Sports
ATTACH;FMTTYPE=image/jpeg:https://miamiticketguide.com/wp-content/uploads/2025/02/1085-miami-marlins-vs-new-york-mets.jpg
END:VEVENT
END:VCALENDAR