BEGIN:VCALENDAR
VERSION:2.0
PRODID:-//Miami Ticket Guide - ECPv6.15.17.1//NONSGML v1.0//EN
CALSCALE:GREGORIAN
METHOD:PUBLISH
X-ORIGINAL-URL:https://miamiticketguide.com
X-WR-CALDESC:Events for Miami Ticket Guide
REFRESH-INTERVAL;VALUE=DURATION:PT1H
X-Robots-Tag:noindex
X-PUBLISHED-TTL:PT1H
BEGIN:VTIMEZONE
TZID:America/New_York
BEGIN:DAYLIGHT
TZOFFSETFROM:-0500
TZOFFSETTO:-0400
TZNAME:EDT
DTSTART:20240310T070000
END:DAYLIGHT
BEGIN:STANDARD
TZOFFSETFROM:-0400
TZOFFSETTO:-0500
TZNAME:EST
DTSTART:20241103T060000
END:STANDARD
BEGIN:DAYLIGHT
TZOFFSETFROM:-0500
TZOFFSETTO:-0400
TZNAME:EDT
DTSTART:20250309T070000
END:DAYLIGHT
BEGIN:STANDARD
TZOFFSETFROM:-0400
TZOFFSETTO:-0500
TZNAME:EST
DTSTART:20251102T060000
END:STANDARD
BEGIN:DAYLIGHT
TZOFFSETFROM:-0500
TZOFFSETTO:-0400
TZNAME:EDT
DTSTART:20260308T070000
END:DAYLIGHT
BEGIN:STANDARD
TZOFFSETFROM:-0400
TZOFFSETTO:-0500
TZNAME:EST
DTSTART:20261101T060000
END:STANDARD
END:VTIMEZONE
BEGIN:VEVENT
DTSTART;TZID=America/New_York:20250824T134000
DTEND;TZID=America/New_York:20250824T174000
DTSTAMP:20260419T153814
CREATED:20250221T040555Z
LAST-MODIFIED:20250325T095504Z
UID:10000688-1756042800-1756057200@miamiticketguide.com
SUMMARY:Miami Marlins vs Toronto Blue Jays
DESCRIPTION:Miami Marlins vs Toronto Blue Jays\nGet Your Tickets for Miami Marlins vs Toronto Blue Jays\, from TicketMaster! \nDon’t miss the action as the Miami Marlins take on the Toronto Blue Jays at LoanDepot Park in Miami\, FL\, on Sunday\, August 24\, 2025\, at 1:40 PM. This interleague battle promises intense baseball action\, thrilling plays\, and an unforgettable game-day experience! \nEvent Details:\n📅 Date & Time: Sunday\, August 24\, 2025 • 1:40 PM📍 Venue: LoanDepot Park\, Miami\, FL \nWhy You Should Be There:\n🔥 Exciting Matchup: The Marlins and Blue Jays will bring their A-game in this must-watch MLB showdown.🎉 Unmatched Atmosphere: Enjoy the electrifying energy of LoanDepot Park\, surrounded by passionate fans.🌞 Perfect Sunday Baseball: A 1:40 PM start time makes it the ideal afternoon event for families\, friends\, and baseball lovers.🚀 Tickets Selling Fast! Get yours now before it’s too late! \nSecure Your Seats from TicketMaster Today!\nExperience the thrill of live MLB action and cheer for your team at LoanDepot Park. Buy your tickets now and be part of the excitement! \nFor more details about upcoming events\, click here.
URL:https://miamiticketguide.com/event/miami-marlins-vs-toronto-blue-jays-au24/
LOCATION:LoanDepot Park\, 501 Marlins Way\, Miami\, United States Of America
CATEGORIES:Miami Marlins,Sports
ATTACH;FMTTYPE=image/jpeg:https://miamiticketguide.com/wp-content/uploads/2025/02/1395-miami-marlins-vs-toronto-blue-jays.jpg
END:VEVENT
END:VCALENDAR