BEGIN:VCALENDAR
VERSION:2.0
PRODID:-//Miami Ticket Guide - ECPv6.15.17.1//NONSGML v1.0//EN
CALSCALE:GREGORIAN
METHOD:PUBLISH
X-ORIGINAL-URL:https://miamiticketguide.com
X-WR-CALDESC:Events for Miami Ticket Guide
REFRESH-INTERVAL;VALUE=DURATION:PT1H
X-Robots-Tag:noindex
X-PUBLISHED-TTL:PT1H
BEGIN:VTIMEZONE
TZID:America/New_York
BEGIN:DAYLIGHT
TZOFFSETFROM:-0500
TZOFFSETTO:-0400
TZNAME:EDT
DTSTART:20240310T070000
END:DAYLIGHT
BEGIN:STANDARD
TZOFFSETFROM:-0400
TZOFFSETTO:-0500
TZNAME:EST
DTSTART:20241103T060000
END:STANDARD
BEGIN:DAYLIGHT
TZOFFSETFROM:-0500
TZOFFSETTO:-0400
TZNAME:EDT
DTSTART:20250309T070000
END:DAYLIGHT
BEGIN:STANDARD
TZOFFSETFROM:-0400
TZOFFSETTO:-0500
TZNAME:EST
DTSTART:20251102T060000
END:STANDARD
BEGIN:DAYLIGHT
TZOFFSETFROM:-0500
TZOFFSETTO:-0400
TZNAME:EDT
DTSTART:20260308T070000
END:DAYLIGHT
BEGIN:STANDARD
TZOFFSETFROM:-0400
TZOFFSETTO:-0500
TZNAME:EST
DTSTART:20261101T060000
END:STANDARD
END:VTIMEZONE
BEGIN:VEVENT
DTSTART;TZID=America/New_York:20250325T131000
DTEND;TZID=America/New_York:20250325T171000
DTSTAMP:20260423T174942
CREATED:20250218T003332Z
LAST-MODIFIED:20250310T171226Z
UID:10000221-1742908200-1742922600@miamiticketguide.com
SUMMARY:Miami Marlins vs New York Yankees - Mar 25 - LoanDepot Park
DESCRIPTION:Miami Marlins vs New York Yankees – Mar 25 – LoanDepot Park\nMiami Marlins vs. New York Yankees – Baseball Showdown! \n\nWhen: Tuesday\, March 25\, 2025 • 1:10 PM\nWhere: LoanDepot Park\, Miami\, FL\n\nGet ready for an epic baseball battle as the Miami Marlins take on the New York Yankees at LoanDepot Park in Miami! Whether you’re a die-hard baseball fan or just looking for a fun day out\, this game is the perfect excuse to enjoy America’s favorite pastime in one of the coolest ballparks around. \nClick here for the showtimes: TicketMaster. \nWhy You Should Go \n\nTwo Teams\, One Goal: The Marlins\, Miami’s home team\, are known for their underdog spirit and strong pitching. The Yankees\, on the other hand\, are baseball legends with a history of winning and a lineup full of star power. It’s a classic matchup you won’t want to miss!\nLoanDepot Park: This isn’t your average stadium. With its retractable roof (no rainouts here!)\, colorful Miami vibe\, and the famous home run sculpture\, it’s a place where baseball meets art and culture. Plus\, the food is amazing—think Cuban sandwiches\, fresh seafood\, and more.\nThe Atmosphere: Yankees fans travel everywhere\, so expect a lively crowd with plenty of energy. Whether you’re cheering for the Marlins or the Yankees\, the buzz in the stadium will keep you on your feet.\n\nReserve your spot now: TicketMaster. \nWhat to Expect \n\nBig Plays and Big Moments: From home runs to strikeouts\, this game will have it all. Will the Marlins’ pitching shut down the Yankees’ powerful hitters? Or will the Yankees’ experience and talent prove too much for Miami? You’ll have to be there to find out!\nFun for Everyone: Even if you’re not a huge baseball fan\, LoanDepot Park is a great place to hang out. Enjoy the music\, the food\, and the Miami sunshine (or the AC if the roof is closed). It’s a full-on experience\, not just a game.\nFamily-Friendly: Bring the kids! Baseball games are perfect for families\, and LoanDepot Park has plenty of activities to keep everyone entertained.\n\nCheck the available seats here: TicketMaster. \nTips for Attending \n\nGet Your Tickets Early: Yankees games always draw a crowd\, so grab your tickets as soon as you can. Whether you want seats close to the action or a spot in the outfield\, there’s something for every budget.\nArrive Early: Get to the stadium before the game starts to explore. Check out the home run sculpture\, grab some food\, and soak in the Miami vibes.\nDress for the Weather: Miami in March is usually warm and sunny\, but the stadium’s roof means you’re covered no matter what. Wear your team’s colors and get ready to cheer!\n\nThis isn’t just a baseball game—it’s an event. The Marlins and Yankees bring their unique styles to the field\, and LoanDepot Park adds that special Miami flair. Whether you’re a lifelong fan or just looking for a fun day out\, this game is the perfect way to enjoy great sports\, great food\, and great company. \nMark your calendar for March 25\, 2025\, and get ready for a day of home runs\, high-fives\, and unforgettable memories. Let’s play ball! \nGet tickets for this event on: TicketMaster. \nClick here for more event updates.
URL:https://miamiticketguide.com/event/miami-marlins-new-york-yankees-mar-25/
LOCATION:LoanDepot Park\, 501 Marlins Way\, Miami\, United States Of America
CATEGORIES:Miami Marlins,Sports
ATTACH;FMTTYPE=image/jpeg:https://miamiticketguide.com/wp-content/uploads/2025/02/106-miami-marlins-vs-new-york-yankees.jpg
END:VEVENT
END:VCALENDAR