BEGIN:VCALENDAR
VERSION:2.0
PRODID:-//Miami Ticket Guide - ECPv6.15.17.1//NONSGML v1.0//EN
CALSCALE:GREGORIAN
METHOD:PUBLISH
X-ORIGINAL-URL:https://miamiticketguide.com
X-WR-CALDESC:Events for Miami Ticket Guide
REFRESH-INTERVAL;VALUE=DURATION:PT1H
X-Robots-Tag:noindex
X-PUBLISHED-TTL:PT1H
BEGIN:VTIMEZONE
TZID:America/New_York
BEGIN:DAYLIGHT
TZOFFSETFROM:-0500
TZOFFSETTO:-0400
TZNAME:EDT
DTSTART:20240310T070000
END:DAYLIGHT
BEGIN:STANDARD
TZOFFSETFROM:-0400
TZOFFSETTO:-0500
TZNAME:EST
DTSTART:20241103T060000
END:STANDARD
BEGIN:DAYLIGHT
TZOFFSETFROM:-0500
TZOFFSETTO:-0400
TZNAME:EDT
DTSTART:20250309T070000
END:DAYLIGHT
BEGIN:STANDARD
TZOFFSETFROM:-0400
TZOFFSETTO:-0500
TZNAME:EST
DTSTART:20251102T060000
END:STANDARD
BEGIN:DAYLIGHT
TZOFFSETFROM:-0500
TZOFFSETTO:-0400
TZNAME:EDT
DTSTART:20260308T070000
END:DAYLIGHT
BEGIN:STANDARD
TZOFFSETFROM:-0400
TZOFFSETTO:-0500
TZNAME:EST
DTSTART:20261101T060000
END:STANDARD
END:VTIMEZONE
BEGIN:VEVENT
DTSTART;TZID=America/New_York:20250307T180000
DTEND;TZID=America/New_York:20250307T230000
DTSTAMP:20260423T134622
CREATED:20250222T022716Z
LAST-MODIFIED:20250306T132040Z
UID:10000105-1741370400-1741388400@miamiticketguide.com
SUMMARY:Miami of Ohio Redhawks vs. Ball State Cardinals - Mar 7 - Millett Hall
DESCRIPTION:Miami of Ohio Redhawks vs. Ball State Cardinals – Mar 7 – Millett Hall\nMiami of Ohio Redhawks Men’s Basketball vs. Ball State Cardinals Men’s Basketball \n\n📅 Date: Friday\, March 7\, 2025\n⏰ Time: 6:00 PM ET\n📍 Location: Millett Hall\, Oxford\, OH\nClick here for the showtimes: TicketMaster.\n\nGame Overview: \nGet ready for an exciting college basketball showdown as the Miami of Ohio Redhawks take on the Ball State Cardinals on March 7\, 2025\, at Millett Hall in Oxford\, OH. Both teams are set to battle it out in what promises to be a thrilling matchup as they fight for dominance in the conference. \nCheck the available seats here: TicketMaster. \nWhat’s at Stake? \n• Miami of Ohio will look to defend their home court and come out strong with a win.\n• Ball State\, eager to make an impact\, will bring their A-game to challenge the Redhawks.\n• The outcome of this game will have major implications for the teams’ standings and playoff hopes. \nDo not miss the game: TicketMaster. \nKey Highlights: \n✅ Miami of Ohio’s fast-paced offense is ready to light up the court. \n✅ Ball State’s defense will need to step up against the Redhawks’ high-scoring attack. \n✅ Expect high-energy plays and intense moments throughout the game. \n🎟 Tickets & Viewing Options: \n• Want to be there live? 🎟 Tickets are available now – don’t miss out on the action! \nDon’t miss this exciting matchup at Millett Hall! Will Miami of Ohio take the win\, or will Ball State pull off an upset? Be there to see the action unfold! \nGet tickets for this event on: TicketMaster. \nClick here for more event updates.
URL:https://miamiticketguide.com/event/miami-of-ohio-redhawks-vs-ball-state-cardinals-mar-7/
LOCATION:Millett Hall\, Tallawanda St & E Sycamore St\, Oxford\, United States Of America
CATEGORIES:Sports
ATTACH;FMTTYPE=image/jpeg:https://miamiticketguide.com/wp-content/uploads/2025/02/1728-miami-of-ohio-redhawks-mens-basketball-vs-ball-state-cardinals-mens-basketball.jpg
END:VEVENT
END:VCALENDAR