BEGIN:VCALENDAR
VERSION:2.0
PRODID:-//Miami Ticket Guide - ECPv6.15.17.1//NONSGML v1.0//EN
CALSCALE:GREGORIAN
METHOD:PUBLISH
X-WR-CALNAME:Miami Ticket Guide
X-ORIGINAL-URL:https://miamiticketguide.com
X-WR-CALDESC:Events for Miami Ticket Guide
REFRESH-INTERVAL;VALUE=DURATION:PT1H
X-Robots-Tag:noindex
X-PUBLISHED-TTL:PT1H
BEGIN:VTIMEZONE
TZID:America/New_York
BEGIN:DAYLIGHT
TZOFFSETFROM:-0500
TZOFFSETTO:-0400
TZNAME:EDT
DTSTART:20240310T070000
END:DAYLIGHT
BEGIN:STANDARD
TZOFFSETFROM:-0400
TZOFFSETTO:-0500
TZNAME:EST
DTSTART:20241103T060000
END:STANDARD
BEGIN:DAYLIGHT
TZOFFSETFROM:-0500
TZOFFSETTO:-0400
TZNAME:EDT
DTSTART:20250309T070000
END:DAYLIGHT
BEGIN:STANDARD
TZOFFSETFROM:-0400
TZOFFSETTO:-0500
TZNAME:EST
DTSTART:20251102T060000
END:STANDARD
BEGIN:DAYLIGHT
TZOFFSETFROM:-0500
TZOFFSETTO:-0400
TZNAME:EDT
DTSTART:20260308T070000
END:DAYLIGHT
BEGIN:STANDARD
TZOFFSETFROM:-0400
TZOFFSETTO:-0500
TZNAME:EST
DTSTART:20261101T060000
END:STANDARD
END:VTIMEZONE
BEGIN:VEVENT
DTSTART;TZID=America/New_York:20250325T110000
DTEND;TZID=America/New_York:20250325T160000
DTSTAMP:20260423T190942
CREATED:20250308T044238Z
LAST-MODIFIED:20250310T165628Z
UID:10000220-1742900400-1742918400@miamiticketguide.com
SUMMARY:Miami Open - Grandstand Session 15 - Mar 25 - Hard Rock Stadium
DESCRIPTION:Miami Open – Grandstand Session 15 – Mar 25 – Hard Rock Stadium\nMiami Open – Grandstand Session 15 \n\nWhen: Tuesday\, March 25\, 2025 • 11:00 AM\nWhere: Hard Rock Stadium\, Miami Gardens\, FL\n\nClick here for the showtimes: BUY NOW. \nGet ready for an unforgettable day of tennis at the Miami Open! On Tuesday\, March 25\, 2025\, the action heats up at the Grandstand Court with Session 15\, starting at 11:00 AM. This is your chance to see some of the best tennis players in the world up close and personal\, all while enjoying the electric atmosphere of one of the most exciting tournaments on the ATP and WTA tours. \nReserve your spot now: BUY NOW. \nWhat’s Happening? \nThe Grandstand is one of the coolest spots to watch tennis at the Miami Open. It’s smaller than the main stadium\, so you’ll feel like you’re right in the middle of the action. You’ll get to watch a mix of singles and doubles matches\, featuring top-ranked players and maybe even a few rising stars. The fast-paced hard court matches are always thrilling\, so expect big serves\, crazy rallies\, and maybe even a few surprises! \nBuy ticket for this game: BUY NOW. \nWho’s Playing? \nWhile the exact match schedule won’t be announced until closer to the event\, you can bet on seeing some big names. The Miami Open always brings out the best in tennis\, so whether you’re a fan of the legends or love cheering for the underdogs\, there’s something for everyone. \nWhy You’ll Love It \n\nGreat Views: The Grandstand is known for its intimate setting\, so you’ll feel like you’re part of the action.\nAwesome Vibes: The Miami Open is more than just tennis—it’s a festival of food\, music\, and fun.\nPerfect Weather: March in Miami means sunny skies and warm breezes\, making it the perfect day to be outdoors.\n\nGrab your seats now on: BUY NOW. \nTips for Attending \n\nGet Your Tickets Early: Sessions at the Grandstand can sell out fast\, so grab your tickets as soon as they’re available.\nArrive Early: Explore the tennis village\, grab a bite to eat\, and check out the fan zones before the matches start.\nBring Your Energy: Cheer loud\, clap hard\, and enjoy every moment—it’s all part of the experience!\n\nDon’t Miss Out! \nWhether you’re a die-hard tennis fan or just looking for a fun day out\, the Miami Open – Grandstand Session 15 is the place to be. Mark your calendar\, grab your friends\, and get ready for a day of world-class tennis in the heart of Miami. See you there! \nGet tickets for this event: BUY NOW. \nClick here for more event updates.
URL:https://miamiticketguide.com/event/miami-open-grandstand-session-15/
LOCATION:Hard Rock Stadium\, 347 Don Shula Drive\, Miami\, United States Of America
CATEGORIES:Miami Open,Sports
ATTACH;FMTTYPE=image/jpeg:https://miamiticketguide.com/wp-content/uploads/2025/03/4600-miami-open-grandstand-session-15.jpg
END:VEVENT
END:VCALENDAR