BEGIN:VCALENDAR
VERSION:2.0
PRODID:-//Miami Ticket Guide - ECPv6.15.17.1//NONSGML v1.0//EN
CALSCALE:GREGORIAN
METHOD:PUBLISH
X-ORIGINAL-URL:https://miamiticketguide.com
X-WR-CALDESC:Events for Miami Ticket Guide
REFRESH-INTERVAL;VALUE=DURATION:PT1H
X-Robots-Tag:noindex
X-PUBLISHED-TTL:PT1H
BEGIN:VTIMEZONE
TZID:America/New_York
BEGIN:DAYLIGHT
TZOFFSETFROM:-0500
TZOFFSETTO:-0400
TZNAME:EDT
DTSTART:20240310T070000
END:DAYLIGHT
BEGIN:STANDARD
TZOFFSETFROM:-0400
TZOFFSETTO:-0500
TZNAME:EST
DTSTART:20241103T060000
END:STANDARD
BEGIN:DAYLIGHT
TZOFFSETFROM:-0500
TZOFFSETTO:-0400
TZNAME:EDT
DTSTART:20250309T070000
END:DAYLIGHT
BEGIN:STANDARD
TZOFFSETFROM:-0400
TZOFFSETTO:-0500
TZNAME:EST
DTSTART:20251102T060000
END:STANDARD
BEGIN:DAYLIGHT
TZOFFSETFROM:-0500
TZOFFSETTO:-0400
TZNAME:EDT
DTSTART:20260308T070000
END:DAYLIGHT
BEGIN:STANDARD
TZOFFSETFROM:-0400
TZOFFSETTO:-0500
TZNAME:EST
DTSTART:20261101T060000
END:STANDARD
END:VTIMEZONE
BEGIN:VEVENT
DTSTART;TZID=America/New_York:20250325T110000
DTEND;TZID=America/New_York:20250325T160000
DTSTAMP:20260423T164230
CREATED:20250308T004228Z
LAST-MODIFIED:20250310T164140Z
UID:10000219-1742900400-1742918400@miamiticketguide.com
SUMMARY:Miami Open - Stadium Session 15 - Mar 25 - Hard Rock Stadium
DESCRIPTION:Miami Open – Stadium Session 15 – Mar 25 – Hard Rock Stadium\nMiami Open – Stadium Session 15 \n\nDate: Tuesday\, March 25\, 2025\nTime: 11:00 AM\nLocation: Hard Rock Stadium\, Miami Gardens\, FL\n\nClick here for the showtimes: BUY NOW. \nGet ready for an unforgettable day of tennis at the Miami Open – Stadium Session 15! On Tuesday\, March 25\, 2025\, the action kicks off at 11:00 AM at the iconic Hard Rock Stadium in Miami Gardens\, Florida. This is your chance to see the world’s best tennis players up close\, battling it out on the hard court in one of the most exciting tournaments of the year. \nBuy tickets for this game: BUY NOW. \nWhy You’ll Love It: \n\nSee the Stars: Watch top-ranked players\, including Grand Slam champions and rising talents\, compete in intense matches.\nAmazing Atmosphere: The Miami Open is known for its electric vibe\, with passionate fans cheering on their favorites.\nPerfect Timing: The 11:00 AM start means you’ll have plenty of time to enjoy multiple matches and soak up the excitement.\nMiami Flavor: Beyond the tennis\, enjoy the vibrant Miami culture\, delicious food\, and fun activities around the stadium.\n\nReserve your spot now: BUY NOW. \nWhat to Expect: \nStadium Session 15 will feature a mix of singles\, doubles\, or mixed doubles matches (depending on the schedule). The Hard Rock Stadium is designed to give every fan a great view of the court\, so you won’t miss a single serve\, volley\, or match point. \nGetting There: \nThe Hard Rock Stadium is easy to reach by car\, rideshare\, or public transport. Parking is available on-site\, but it’s a good idea to book your spot ahead of time. If you’re staying in Miami\, look for shuttle services to make your trip even easier. \nGrab your seats here: BUY NOW. \nGrab Your Tickets: \nTickets for Stadium Session 15 are available now. Prices vary depending on where you sit\, so grab yours early to secure the best spots! \nWhether you’re a huge tennis fan or just looking for a fun day out\, the Miami Open – Stadium Session 15 is the place to be. Don’t miss your chance to be part of the excitement—get your tickets today and get ready for an epic day of tennis! \nGet tickets for this event: BUY NOW. \nClick here for more event updates.
URL:https://miamiticketguide.com/event/miami-open-stadium-session-15-mar-25/
LOCATION:Hard Rock Stadium\, 347 Don Shula Drive\, Miami\, United States Of America
CATEGORIES:Miami Open,Sports
ATTACH;FMTTYPE=image/jpeg:https://miamiticketguide.com/wp-content/uploads/2025/03/4534-miami-open-stadium-session-15.jpg
END:VEVENT
END:VCALENDAR