BEGIN:VCALENDAR
VERSION:2.0
PRODID:-//Miami Ticket Guide - ECPv6.15.17.1//NONSGML v1.0//EN
CALSCALE:GREGORIAN
METHOD:PUBLISH
X-ORIGINAL-URL:https://miamiticketguide.com
X-WR-CALDESC:Events for Miami Ticket Guide
REFRESH-INTERVAL;VALUE=DURATION:PT1H
X-Robots-Tag:noindex
X-PUBLISHED-TTL:PT1H
BEGIN:VTIMEZONE
TZID:America/New_York
BEGIN:DAYLIGHT
TZOFFSETFROM:-0500
TZOFFSETTO:-0400
TZNAME:EDT
DTSTART:20240310T070000
END:DAYLIGHT
BEGIN:STANDARD
TZOFFSETFROM:-0400
TZOFFSETTO:-0500
TZNAME:EST
DTSTART:20241103T060000
END:STANDARD
BEGIN:DAYLIGHT
TZOFFSETFROM:-0500
TZOFFSETTO:-0400
TZNAME:EDT
DTSTART:20250309T070000
END:DAYLIGHT
BEGIN:STANDARD
TZOFFSETFROM:-0400
TZOFFSETTO:-0500
TZNAME:EST
DTSTART:20251102T060000
END:STANDARD
BEGIN:DAYLIGHT
TZOFFSETFROM:-0500
TZOFFSETTO:-0400
TZNAME:EDT
DTSTART:20260308T070000
END:DAYLIGHT
BEGIN:STANDARD
TZOFFSETFROM:-0400
TZOFFSETTO:-0500
TZNAME:EST
DTSTART:20261101T060000
END:STANDARD
END:VTIMEZONE
BEGIN:VEVENT
DTSTART;TZID=America/New_York:20250906T190000
DTEND;TZID=America/New_York:20250906T230000
DTSTAMP:20260423T053403
CREATED:20250507T184200Z
LAST-MODIFIED:20250715T041810Z
UID:10001143-1757185200-1757199600@miamiticketguide.com
SUMMARY:MICHAEL SCHENKER -  My Years With UFO Tour
DESCRIPTION:MICHAEL SCHENKER – My Years With UFO Tour\nRock history comes alive on Saturday\, September 6\, 2025 at 7:00 PM when guitar legend Michael Schenker hits the stage at Culture Room in Fort Lauderdale for his My Years With UFO Tour. Celebrating over five decades with iconic band UFO\, Schenker delivers blistering renditions of fan-favorites like “Doctor Doctor\,” “Lights Out\,” “Only You Can Rock Me\,” and more\, showcasing his signature melodic solos and unparalleled stage presence. \nThis intimate\, 18+ venue ensures an up-close\, electrifying experience — ideal for die-hard rock fans and new listeners alike. Tickets start around $90\, making it a can’t-miss evening for lovers of classic and hard rock . Whether you’re reliving UFO’s greatest hits or witnessing Schenker’s guitar virtuosity live for the first time\, this concert promises nostalgia\, passion\, and raw energy. Secure your seat and prepare for a night of timeless rock performed by one of the genre’s true guitar icons. \nGet tickets for this event: BUY NOW. \nFor more details about upcoming events\, click here.
URL:https://miamiticketguide.com/event/michael-schenker-my-years-with-ufo-tour/
LOCATION:Culture Room\, 3045 N Federal Hwy\, Ft Lauderdale\, United States Of America
CATEGORIES:Music
ATTACH;FMTTYPE=image/jpeg:https://miamiticketguide.com/wp-content/uploads/2025/05/11506-michael-schenker-my-years-with-ufo-tour.jpg
END:VEVENT
END:VCALENDAR