BEGIN:VCALENDAR
VERSION:2.0
PRODID:-//Miami Ticket Guide - ECPv6.15.17.1//NONSGML v1.0//EN
CALSCALE:GREGORIAN
METHOD:PUBLISH
X-WR-CALNAME:Miami Ticket Guide
X-ORIGINAL-URL:https://miamiticketguide.com
X-WR-CALDESC:Events for Miami Ticket Guide
REFRESH-INTERVAL;VALUE=DURATION:PT1H
X-Robots-Tag:noindex
X-PUBLISHED-TTL:PT1H
BEGIN:VTIMEZONE
TZID:America/New_York
BEGIN:DAYLIGHT
TZOFFSETFROM:-0500
TZOFFSETTO:-0400
TZNAME:EDT
DTSTART:20240310T070000
END:DAYLIGHT
BEGIN:STANDARD
TZOFFSETFROM:-0400
TZOFFSETTO:-0500
TZNAME:EST
DTSTART:20241103T060000
END:STANDARD
BEGIN:DAYLIGHT
TZOFFSETFROM:-0500
TZOFFSETTO:-0400
TZNAME:EDT
DTSTART:20250309T070000
END:DAYLIGHT
BEGIN:STANDARD
TZOFFSETFROM:-0400
TZOFFSETTO:-0500
TZNAME:EST
DTSTART:20251102T060000
END:STANDARD
BEGIN:DAYLIGHT
TZOFFSETFROM:-0500
TZOFFSETTO:-0400
TZNAME:EDT
DTSTART:20260308T070000
END:DAYLIGHT
BEGIN:STANDARD
TZOFFSETFROM:-0400
TZOFFSETTO:-0500
TZNAME:EST
DTSTART:20261101T060000
END:STANDARD
END:VTIMEZONE
BEGIN:VEVENT
DTSTART;TZID=America/New_York:20251212T190000
DTEND;TZID=America/New_York:20251213T020000
DTSTAMP:20260422T075926
CREATED:20250721T144507Z
LAST-MODIFIED:20251201T124320Z
UID:10001318-1765566000-1765591200@miamiticketguide.com
SUMMARY:Raymond & Miguel "Los Reyes Del Humor" con Invitados Especiales
DESCRIPTION:Raymond & Miguel “Los Reyes Del Humor” con Invitados Especiales\nRaymond & Miguel Los Reyes Del Humor Tickets – December 12\, 2025 at James L. Knight Center Miami – Reserve Yours Now! \nGet ready for a night filled with laughter as Raymond & Miguel\, known as “Los Reyes Del Humor\,” bring their high-energy comedy show to James L. Knight Center – Ashe Auditorium on Friday\, December 12\, 2025\, at 7:00 PM. This special event will also feature exciting guest performers\, making it a perfect evening for fans of Latino comedy. \nExpect quick-fire jokes\, unforgettable characters\, and non-stop humor from one of the most iconic comedy duos. This show is highly popular\, so booking early is recommended. Please note the NO BAG POLICY – only bags smaller than 10″ x 7″ x 2″ are allowed\, and no cash is accepted at the venue. All payments must be made using MC\, Visa\, Amex\, or Discover with valid photo ID. \nEvent Details:\n\nWhen: Friday\, December 12\, 2025\nShow Starts: 7:00 PM\nWhere: James L. Knight Center – Ashe Auditorium\, Miami\, FL\n\nDon’t miss this hilarious night in Miami. Tickets are selling fast – secure yours today! \nFor more details about upcoming events\, click here.
URL:https://miamiticketguide.com/event/raymond-miguel-los-reyes-del-humor-con-invitados-especiales/
LOCATION:James L. Knight Center – Ashe Auditorium\, 400 SE 2nd Ave\, Miami\, United States Of America
CATEGORIES:Arts & Theatre
ATTACH;FMTTYPE=image/jpeg:https://miamiticketguide.com/wp-content/uploads/2025/07/Raymond-Miguel-Los-Reyes-Del-Humor-con-Invitados-Especiales.jpg
END:VEVENT
END:VCALENDAR