BEGIN:VCALENDAR
VERSION:2.0
PRODID:-//Miami Ticket Guide - ECPv6.15.17.1//NONSGML v1.0//EN
CALSCALE:GREGORIAN
METHOD:PUBLISH
X-ORIGINAL-URL:https://miamiticketguide.com
X-WR-CALDESC:Events for Miami Ticket Guide
REFRESH-INTERVAL;VALUE=DURATION:PT1H
X-Robots-Tag:noindex
X-PUBLISHED-TTL:PT1H
BEGIN:VTIMEZONE
TZID:America/New_York
BEGIN:DAYLIGHT
TZOFFSETFROM:-0500
TZOFFSETTO:-0400
TZNAME:EDT
DTSTART:20240310T070000
END:DAYLIGHT
BEGIN:STANDARD
TZOFFSETFROM:-0400
TZOFFSETTO:-0500
TZNAME:EST
DTSTART:20241103T060000
END:STANDARD
BEGIN:DAYLIGHT
TZOFFSETFROM:-0500
TZOFFSETTO:-0400
TZNAME:EDT
DTSTART:20250309T070000
END:DAYLIGHT
BEGIN:STANDARD
TZOFFSETFROM:-0400
TZOFFSETTO:-0500
TZNAME:EST
DTSTART:20251102T060000
END:STANDARD
BEGIN:DAYLIGHT
TZOFFSETFROM:-0500
TZOFFSETTO:-0400
TZNAME:EDT
DTSTART:20260308T070000
END:DAYLIGHT
BEGIN:STANDARD
TZOFFSETFROM:-0400
TZOFFSETTO:-0500
TZNAME:EST
DTSTART:20261101T060000
END:STANDARD
END:VTIMEZONE
BEGIN:VEVENT
DTSTART;TZID=America/New_York:20250326T190000
DTEND;TZID=America/New_York:20250327T030000
DTSTAMP:20260424T043559
CREATED:20250221T090757Z
LAST-MODIFIED:20250311T064601Z
UID:10000225-1743015600-1743044400@miamiticketguide.com
SUMMARY:Exhorder\, Restless Spirit\, and Herakleion in Miami – Mar 26 – Gramps Wynwood
DESCRIPTION:Exhorder\, Restless Spirit\, and Herakleion in Miami – Mar 26 – Gramps Wynwood\nGet Your Tickets for Exhorder\, Restless Spirit\, and Herakleion in Miami\, from TicketMaster! \nExperience an electrifying night of metal as Exhorder\, Restless Spirit\, and Herakleion take the stage at Gramps Wynwood in Miami on Wednesday\, March 26\, 2025\, at 7:00 PM. Tickets are $20.00 for this 18+ event. \nEvent Details: \n\nDate & Time: Wednesday\, March 26\, 2025\, at 7:00 PM\nVenue: Gramps Wynwood\, 176 NW 24th Street\, Miami\, FL 33127\nTicket Price: $20.00\nAge Requirement: 18 and over\n\nImportant Information: \n\nValid 18+ identification is required for entry.\nNo refunds for attendees under 18 or without proper ID.\n\nAbout the Bands: \n\nExhorder: Pioneers of thrash and groove metal\, known for their high-energy performances.\nRestless Spirit: Emerging heavy metal band with a growing fan base.\nHerakleion: Local metal act bringing intense energy to the stage.\n\nSecure your spot for this unforgettable metal showcase by purchasing tickets now from TicketMaster. \nFor more details about upcoming events\, click here.
URL:https://miamiticketguide.com/event/exhorder-restless-spirit-and-herakleion-in-miami-mar-26-gramps-wynwood/
LOCATION:Gramps Wynwood\, 176 NW 24th Street\, Miami\, United States Of America
CATEGORIES:Concerts
ATTACH;FMTTYPE=image/jpeg:https://miamiticketguide.com/wp-content/uploads/2025/02/1462-exhorder-restless-spirit-and-herakleion-in-miami.jpg
END:VEVENT
END:VCALENDAR