BEGIN:VCALENDAR
VERSION:2.0
PRODID:-//Miami Ticket Guide - ECPv6.15.17.1//NONSGML v1.0//EN
CALSCALE:GREGORIAN
METHOD:PUBLISH
X-ORIGINAL-URL:https://miamiticketguide.com
X-WR-CALDESC:Events for Miami Ticket Guide
REFRESH-INTERVAL;VALUE=DURATION:PT1H
X-Robots-Tag:noindex
X-PUBLISHED-TTL:PT1H
BEGIN:VTIMEZONE
TZID:America/New_York
BEGIN:DAYLIGHT
TZOFFSETFROM:-0500
TZOFFSETTO:-0400
TZNAME:EDT
DTSTART:20240310T070000
END:DAYLIGHT
BEGIN:STANDARD
TZOFFSETFROM:-0400
TZOFFSETTO:-0500
TZNAME:EST
DTSTART:20241103T060000
END:STANDARD
BEGIN:DAYLIGHT
TZOFFSETFROM:-0500
TZOFFSETTO:-0400
TZNAME:EDT
DTSTART:20250309T070000
END:DAYLIGHT
BEGIN:STANDARD
TZOFFSETFROM:-0400
TZOFFSETTO:-0500
TZNAME:EST
DTSTART:20251102T060000
END:STANDARD
BEGIN:DAYLIGHT
TZOFFSETFROM:-0500
TZOFFSETTO:-0400
TZNAME:EDT
DTSTART:20260308T070000
END:DAYLIGHT
BEGIN:STANDARD
TZOFFSETFROM:-0400
TZOFFSETTO:-0500
TZNAME:EST
DTSTART:20261101T060000
END:STANDARD
END:VTIMEZONE
BEGIN:VEVENT
DTSTART;TZID=America/New_York:20250324T190000
DTEND;TZID=America/New_York:20250325T030000
DTSTAMP:20260419T102428
CREATED:20250221T090739Z
LAST-MODIFIED:20250310T074205Z
UID:10000206-1742842800-1742871600@miamiticketguide.com
SUMMARY:Breakeven Booking Presents: Riki and Donzii in Miami
DESCRIPTION:Breakeven Booking Presents: Riki and Donzii in Miami\nGet Your Tickets for Breakeven Booking Presents: Riki and Donzii in Miami\, from TicketMaster! \nExperience an unforgettable night of synth-pop and avant-garde performances as Riki and Donzii take the stage at Gramps Wynwood. Riki\, the West Coast’s new romantic icon\, returns with her second album\, Gold\, delivering pitch-perfect synth-pop that blends swooning melancholia with atmospheric anthems. Collaborating with Josh Eustis of Telefon Tel Aviv\, Riki’s latest work showcases her unique ability to transform personal narratives into universal experiences. \nEvent Highlights: \n\nDate: Monday\, March 24\, 2025\nTime: Doors open at 7:00 PM\nVenue: Gramps Wynwood\, 176 NW 24th Street\, Miami\, FL 33127\nTickets: $20.00\nAge Requirement: 18+\nRiki: Performing tracks from her acclaimed album Gold\, inspired by notions of symbolic power and transmutable realms of the heart.\nDonzii: Bringing their distinctive avant-garde sound to the Miami music scene.\nVenue: Gramps Wynwood\, renowned for hosting eclectic live performances in Miami’s vibrant Wynwood Arts District.\n\nDon’t miss this chance to immerse yourself in a night of captivating performances and innovative music. Secure your tickets now for an evening that promises to be both dynamic and memorable. \nGet tickets for this event on: TicketMaster. \nFor more details about upcoming events\, click here.
URL:https://miamiticketguide.com/event/breakeven-booking-presents-riki-and-donzii-in-miami/
LOCATION:Gramps Wynwood\, 176 NW 24th Street\, Miami\, United States Of America
CATEGORIES:Concerts
ATTACH;FMTTYPE=image/jpeg:https://miamiticketguide.com/wp-content/uploads/2025/02/1519-breakeven-booking-presents-riki-and-donzii-in-miami.jpg
END:VEVENT
END:VCALENDAR