BEGIN:VCALENDAR
VERSION:2.0
PRODID:-//Miami Ticket Guide - ECPv6.15.17.1//NONSGML v1.0//EN
CALSCALE:GREGORIAN
METHOD:PUBLISH
X-WR-CALNAME:Miami Ticket Guide
X-ORIGINAL-URL:https://miamiticketguide.com
X-WR-CALDESC:Events for Miami Ticket Guide
REFRESH-INTERVAL;VALUE=DURATION:PT1H
X-Robots-Tag:noindex
X-PUBLISHED-TTL:PT1H
BEGIN:VTIMEZONE
TZID:America/New_York
BEGIN:DAYLIGHT
TZOFFSETFROM:-0500
TZOFFSETTO:-0400
TZNAME:EDT
DTSTART:20240310T070000
END:DAYLIGHT
BEGIN:STANDARD
TZOFFSETFROM:-0400
TZOFFSETTO:-0500
TZNAME:EST
DTSTART:20241103T060000
END:STANDARD
BEGIN:DAYLIGHT
TZOFFSETFROM:-0500
TZOFFSETTO:-0400
TZNAME:EDT
DTSTART:20250309T070000
END:DAYLIGHT
BEGIN:STANDARD
TZOFFSETFROM:-0400
TZOFFSETTO:-0500
TZNAME:EST
DTSTART:20251102T060000
END:STANDARD
BEGIN:DAYLIGHT
TZOFFSETFROM:-0500
TZOFFSETTO:-0400
TZNAME:EDT
DTSTART:20260308T070000
END:DAYLIGHT
BEGIN:STANDARD
TZOFFSETFROM:-0400
TZOFFSETTO:-0500
TZNAME:EST
DTSTART:20261101T060000
END:STANDARD
END:VTIMEZONE
BEGIN:VEVENT
DTSTART;TZID=America/New_York:20251121T200000
DTEND;TZID=America/New_York:20251122T030000
DTSTAMP:20260423T190040
CREATED:20250222T215958Z
LAST-MODIFIED:20250327T111701Z
UID:10000745-1763755200-1763780400@miamiticketguide.com
SUMMARY:SARAH MILLICAN: LATE BLOOMER
DESCRIPTION:SARAH MILLICAN: LATE BLOOMER\nGet Your Tickets for SARAH MILLICAN: LATE BLOOMER\, from TicketMaster! \nGet ready for an unforgettable night of comedy with the hilarious Sarah Millican at The Fillmore Miami Beach at Jackie Gleason Theater on Fri\, Nov 21\, 2025\, at 8:00 PM. With her signature blend of wit\, charm\, and insightful humor\, Sarah Millican brings her Late Bloomer tour to Miami Beach for one night only! \nDoors open at 7:00 PM\, and the show begins promptly at 8:00 PM. Ages 16+ are welcome to enjoy this evening of laughter. This performance is perfect for fans of stand-up comedy who appreciate Sarah’s unique perspective on life and all the surprises that come with growing up. \nVenue: The Fillmore Miami Beach at Jackie Gleason TheaterDate: Nov 21\, 2025Time: 8:00 PM (Doors at 7:00 PM)Ages: 16+ \nTicket Limit: There is an 8 ticket limit for this event\, so make sure to grab your tickets early! Don’t miss your chance to see Sarah Millican live\, as she brings her beloved comedy show to the stage. \nGet tickets for this event on: TicketMaster. \nFor more details about upcoming events\, click here.
URL:https://miamiticketguide.com/event/sarah-millican-late-bloomer-nov-21/
LOCATION:The Fillmore Miami Beach at Jackie Gleason Theater\, 1700 Washington Ave\, Miami Beach\, United States Of America
CATEGORIES:Arts & Theatre
ATTACH;FMTTYPE=image/jpeg:https://miamiticketguide.com/wp-content/uploads/2025/02/1985-sarah-millican-late-bloomer.jpg
END:VEVENT
END:VCALENDAR