BEGIN:VCALENDAR
VERSION:2.0
PRODID:-//Miami Ticket Guide - ECPv6.15.17.1//NONSGML v1.0//EN
CALSCALE:GREGORIAN
METHOD:PUBLISH
X-WR-CALNAME:Miami Ticket Guide
X-ORIGINAL-URL:https://miamiticketguide.com
X-WR-CALDESC:Events for Miami Ticket Guide
REFRESH-INTERVAL;VALUE=DURATION:PT1H
X-Robots-Tag:noindex
X-PUBLISHED-TTL:PT1H
BEGIN:VTIMEZONE
TZID:America/New_York
BEGIN:DAYLIGHT
TZOFFSETFROM:-0500
TZOFFSETTO:-0400
TZNAME:EDT
DTSTART:20240310T070000
END:DAYLIGHT
BEGIN:STANDARD
TZOFFSETFROM:-0400
TZOFFSETTO:-0500
TZNAME:EST
DTSTART:20241103T060000
END:STANDARD
BEGIN:DAYLIGHT
TZOFFSETFROM:-0500
TZOFFSETTO:-0400
TZNAME:EDT
DTSTART:20250309T070000
END:DAYLIGHT
BEGIN:STANDARD
TZOFFSETFROM:-0400
TZOFFSETTO:-0500
TZNAME:EST
DTSTART:20251102T060000
END:STANDARD
BEGIN:DAYLIGHT
TZOFFSETFROM:-0500
TZOFFSETTO:-0400
TZNAME:EDT
DTSTART:20260308T070000
END:DAYLIGHT
BEGIN:STANDARD
TZOFFSETFROM:-0400
TZOFFSETTO:-0500
TZNAME:EST
DTSTART:20261101T060000
END:STANDARD
END:VTIMEZONE
BEGIN:VEVENT
DTSTART;TZID=America/New_York:20250510T210000
DTEND;TZID=America/New_York:20250511T013000
DTSTAMP:20260423T001516
CREATED:20250304T094402Z
LAST-MODIFIED:20250318T101053Z
UID:10000438-1746910800-1746927000@miamiticketguide.com
SUMMARY:The BIG Show Improv Comedy Miami - May 10
DESCRIPTION:The BIG Show Improv Comedy Miami – May 10\nGet Your Tickets for The BIG Show Improv Comedy Miami\, now on TicketMaster! \nGet ready for a night of non-stop laughs! 🤣 The BIG Show is Miami’s premier fast-paced\, interactive improv comedy experience\, featuring an award-winning cast delivering quick-witted\, unscripted performances. Think Whose Line Is It Anyway meets SNL! \n\nDate: Saturday\, May 10\, 2025\nTime: 9:00 PM (Doors Open at 8:00 PM)\nVenue: Just the Funny\, 3119 Coral Way\, Miami\, FL 33145\nTickets: $25.00 per person | All Ages Welcome\n\nWhy You Can’t Miss This Show: \n\nHilarious live improv with audience participation\nTalented comedians keeping you entertained all night\nAdmission includes access to “One Hot Hour” at 11 PM\n\nTickets are NON-REFUNDABLE. Arrive early to ensure your group is seated together. \nSecure your tickets now for a comedy night like no other! \nFor more details about upcoming events\, click here.
URL:https://miamiticketguide.com/event/the-big-show-improv-comedy-miami-may-10/
LOCATION:Just the Funny\, 3119 Coral Way\, Miami\, United States Of America
CATEGORIES:Arts & Theatre
ATTACH;FMTTYPE=image/jpeg:https://miamiticketguide.com/wp-content/uploads/2025/03/3624-the-big-show-improv-comedy-miami.jpg
END:VEVENT
END:VCALENDAR