BEGIN:VCALENDAR
VERSION:2.0
PRODID:-//Miami Ticket Guide - ECPv6.15.17.1//NONSGML v1.0//EN
CALSCALE:GREGORIAN
METHOD:PUBLISH
X-WR-CALNAME:Miami Ticket Guide
X-ORIGINAL-URL:https://miamiticketguide.com
X-WR-CALDESC:Events for Miami Ticket Guide
REFRESH-INTERVAL;VALUE=DURATION:PT1H
X-Robots-Tag:noindex
X-PUBLISHED-TTL:PT1H
BEGIN:VTIMEZONE
TZID:America/New_York
BEGIN:DAYLIGHT
TZOFFSETFROM:-0500
TZOFFSETTO:-0400
TZNAME:EDT
DTSTART:20240310T070000
END:DAYLIGHT
BEGIN:STANDARD
TZOFFSETFROM:-0400
TZOFFSETTO:-0500
TZNAME:EST
DTSTART:20241103T060000
END:STANDARD
BEGIN:DAYLIGHT
TZOFFSETFROM:-0500
TZOFFSETTO:-0400
TZNAME:EDT
DTSTART:20250309T070000
END:DAYLIGHT
BEGIN:STANDARD
TZOFFSETFROM:-0400
TZOFFSETTO:-0500
TZNAME:EST
DTSTART:20251102T060000
END:STANDARD
BEGIN:DAYLIGHT
TZOFFSETFROM:-0500
TZOFFSETTO:-0400
TZNAME:EDT
DTSTART:20260308T070000
END:DAYLIGHT
BEGIN:STANDARD
TZOFFSETFROM:-0400
TZOFFSETTO:-0500
TZNAME:EST
DTSTART:20261101T060000
END:STANDARD
END:VTIMEZONE
BEGIN:VEVENT
DTSTART;TZID=America/New_York:20250621T210000
DTEND;TZID=America/New_York:20250622T013000
DTSTAMP:20260420T073414
CREATED:20250304T164257Z
LAST-MODIFIED:20250322T152128Z
UID:10000584-1750539600-1750555800@miamiticketguide.com
SUMMARY:The BIG Show Improv Comedy Miami - Jun 21 -Just the Funny
DESCRIPTION:The BIG Show Improv Comedy Miami – Jun 21 -Just the Funny\nThe BIG Show – Improv Comedy \n\nDate & Time: Saturday\, June 21\, 2025\, at 9:00 PM (Doors open at 8:00 PM)\nLocation: Just the Funny\, 3119 Coral Way\, Miami\, FL 33145\nTickets: $25.00\nAge: All Ages\n\nClick here for the showtimes: BUY NOW. \nCome enjoy a night of laugh-out-loud improv comedy at Just the Funny! This show is perfect for anyone who loves live entertainment and witty humor. Doors open an hour before the show\, so you’ll have time to settle in and get comfortable. Tickets are just $25\, and all ages are welcome—making it a great event for family\, friends\, or even a fun date night. Don’t miss out on this unforgettable evening of comedy and creativity! \nGet tickets for this event: BUY NOW. \nFor more event updates\, visit here.
URL:https://miamiticketguide.com/event/the-big-show-improv-comedy-miami-jun-21/
LOCATION:Just the Funny\, 3119 Coral Way\, Miami\, United States Of America
CATEGORIES:Arts & Theatre
ATTACH;FMTTYPE=image/jpeg:https://miamiticketguide.com/wp-content/uploads/2025/03/3737-the-big-show-improv-comedy-miami.jpg
END:VEVENT
END:VCALENDAR