BEGIN:VCALENDAR
VERSION:2.0
PRODID:-//Miami Ticket Guide - ECPv6.15.17.1//NONSGML v1.0//EN
CALSCALE:GREGORIAN
METHOD:PUBLISH
X-WR-CALNAME:Miami Ticket Guide
X-ORIGINAL-URL:https://miamiticketguide.com
X-WR-CALDESC:Events for Miami Ticket Guide
REFRESH-INTERVAL;VALUE=DURATION:PT1H
X-Robots-Tag:noindex
X-PUBLISHED-TTL:PT1H
BEGIN:VTIMEZONE
TZID:America/New_York
BEGIN:DAYLIGHT
TZOFFSETFROM:-0500
TZOFFSETTO:-0400
TZNAME:EDT
DTSTART:20240310T070000
END:DAYLIGHT
BEGIN:STANDARD
TZOFFSETFROM:-0400
TZOFFSETTO:-0500
TZNAME:EST
DTSTART:20241103T060000
END:STANDARD
BEGIN:DAYLIGHT
TZOFFSETFROM:-0500
TZOFFSETTO:-0400
TZNAME:EDT
DTSTART:20250309T070000
END:DAYLIGHT
BEGIN:STANDARD
TZOFFSETFROM:-0400
TZOFFSETTO:-0500
TZNAME:EST
DTSTART:20251102T060000
END:STANDARD
BEGIN:DAYLIGHT
TZOFFSETFROM:-0500
TZOFFSETTO:-0400
TZNAME:EDT
DTSTART:20260308T070000
END:DAYLIGHT
BEGIN:STANDARD
TZOFFSETFROM:-0400
TZOFFSETTO:-0500
TZNAME:EST
DTSTART:20261101T060000
END:STANDARD
END:VTIMEZONE
BEGIN:VEVENT
DTSTART;TZID=America/New_York:20250418T210000
DTEND;TZID=America/New_York:20250419T013000
DTSTAMP:20260423T052134
CREATED:20250304T234304Z
LAST-MODIFIED:20250315T082112Z
UID:10000354-1745010000-1745026200@miamiticketguide.com
SUMMARY:Friday Night Live - Improv Comedy Miami Show - Apr 18
DESCRIPTION:Friday Night Live – Improv Comedy Miami Show – Apr 18\nGet Your Tickets for Friday Night Live – Improv Comedy Miami Show\, now on TicketMaster! \nGet ready for a night of hilarious\, fast-paced improv comedy at Friday Night Live! at Just the Funny. This show blends the best of shortform and longform improv\, creating a one-of-a-kind comedy experience where no two shows are ever the same! \n\nDate: Friday\, April 18\, 2025\nTime: 9:00 PM (Doors Open at 8:00 PM)\nVenue: Just the Funny\, 3119 Coral Way\, Miami\, FL 33145\nTickets: $25.00 (Per Person)\nAll Ages Welcome\n\nThis is Miami’s premier improv comedy event – don’t miss out! Tickets are non-refundable\, so secure your spot now! \nFor more details about upcoming events\, click here.
URL:https://miamiticketguide.com/event/friday-night-live-improv-comedy-miami-show-apr-18/
LOCATION:Just the Funny\, 3119 Coral Way\, Miami\, United States Of America
CATEGORIES:Arts & Theatre
ATTACH;FMTTYPE=image/jpeg:https://miamiticketguide.com/wp-content/uploads/2025/03/3798-friday-night-live-improv-comedy-miami-show.jpg
END:VEVENT
END:VCALENDAR