BEGIN:VCALENDAR
VERSION:2.0
PRODID:-//Miami Ticket Guide - ECPv6.15.17.1//NONSGML v1.0//EN
CALSCALE:GREGORIAN
METHOD:PUBLISH
X-ORIGINAL-URL:https://miamiticketguide.com
X-WR-CALDESC:Events for Miami Ticket Guide
REFRESH-INTERVAL;VALUE=DURATION:PT1H
X-Robots-Tag:noindex
X-PUBLISHED-TTL:PT1H
BEGIN:VTIMEZONE
TZID:America/New_York
BEGIN:DAYLIGHT
TZOFFSETFROM:-0500
TZOFFSETTO:-0400
TZNAME:EDT
DTSTART:20240310T070000
END:DAYLIGHT
BEGIN:STANDARD
TZOFFSETFROM:-0400
TZOFFSETTO:-0500
TZNAME:EST
DTSTART:20241103T060000
END:STANDARD
BEGIN:DAYLIGHT
TZOFFSETFROM:-0500
TZOFFSETTO:-0400
TZNAME:EDT
DTSTART:20250309T070000
END:DAYLIGHT
BEGIN:STANDARD
TZOFFSETFROM:-0400
TZOFFSETTO:-0500
TZNAME:EST
DTSTART:20251102T060000
END:STANDARD
BEGIN:DAYLIGHT
TZOFFSETFROM:-0500
TZOFFSETTO:-0400
TZNAME:EDT
DTSTART:20260308T070000
END:DAYLIGHT
BEGIN:STANDARD
TZOFFSETFROM:-0400
TZOFFSETTO:-0500
TZNAME:EST
DTSTART:20261101T060000
END:STANDARD
END:VTIMEZONE
BEGIN:VEVENT
DTSTART;TZID=America/New_York:20250502T230000
DTEND;TZID=America/New_York:20250503T034500
DTSTAMP:20260420T091043
CREATED:20250403T094554Z
LAST-MODIFIED:20250420T163610Z
UID:10000843-1746226800-1746243900@miamiticketguide.com
SUMMARY:DeathMatch Apprentice - Improv Comedy Miami
DESCRIPTION:DeathMatch Apprentice – Improv Comedy Miami\n  \nGet ready for a night of unscripted hilarity at DeathMatch Apprentice – Improv Comedy Miami on May 2\, 2025 – Reserve your tickets now! \n Improv Comedy Miami! Happening at Just The Funny in Miami\, this high-energy show pits two teams of improvisers against each other in a comedic showdown where your laughter determines the winner.​ \nEvent Details: \n\nDate: Friday\, May 2\, 2025\nTime: 11:00 PM – 12:00 AM\nLocation: Just The Funny\, Miami\, FL\nAge Restriction: All ages​\n\nFeaturing a mix of seasoned performers and rising stars from Just The Funny’s improv classes\, the show promises fast-paced games and spontaneous humor. Seating is arranged per person\, with efforts to accommodate larger groups together. Please note that tickets are non-refundable after purchase.​ \nDon’t miss this chance to be part of the action and vote for your favorite team in this comedy battle! \nGet tickets for this event on: Buy Now. \nFor more details about upcoming events\, click here.
URL:https://miamiticketguide.com/event/improv-comedy-miami-4/
LOCATION:Just the Funny\, 3119 Coral Way\, Miami\, United States Of America
CATEGORIES:Arts & Theatre
ATTACH;FMTTYPE=image/jpeg:https://miamiticketguide.com/wp-content/uploads/2025/04/8118-deathmatch-apprentice-improv-comedy-miami.jpg
END:VEVENT
END:VCALENDAR