BEGIN:VCALENDAR
VERSION:2.0
PRODID:-//Miami Ticket Guide - ECPv6.15.17.1//NONSGML v1.0//EN
CALSCALE:GREGORIAN
METHOD:PUBLISH
X-ORIGINAL-URL:https://miamiticketguide.com
X-WR-CALDESC:Events for Miami Ticket Guide
REFRESH-INTERVAL;VALUE=DURATION:PT1H
X-Robots-Tag:noindex
X-PUBLISHED-TTL:PT1H
BEGIN:VTIMEZONE
TZID:America/New_York
BEGIN:DAYLIGHT
TZOFFSETFROM:-0500
TZOFFSETTO:-0400
TZNAME:EDT
DTSTART:20240310T070000
END:DAYLIGHT
BEGIN:STANDARD
TZOFFSETFROM:-0400
TZOFFSETTO:-0500
TZNAME:EST
DTSTART:20241103T060000
END:STANDARD
BEGIN:DAYLIGHT
TZOFFSETFROM:-0500
TZOFFSETTO:-0400
TZNAME:EDT
DTSTART:20250309T070000
END:DAYLIGHT
BEGIN:STANDARD
TZOFFSETFROM:-0400
TZOFFSETTO:-0500
TZNAME:EST
DTSTART:20251102T060000
END:STANDARD
BEGIN:DAYLIGHT
TZOFFSETFROM:-0500
TZOFFSETTO:-0400
TZNAME:EDT
DTSTART:20260308T070000
END:DAYLIGHT
BEGIN:STANDARD
TZOFFSETFROM:-0400
TZOFFSETTO:-0500
TZNAME:EST
DTSTART:20261101T060000
END:STANDARD
END:VTIMEZONE
BEGIN:VEVENT
DTSTART;TZID=America/New_York:20250627T230000
DTEND;TZID=America/New_York:20250628T034500
DTSTAMP:20260422T044653
CREATED:20250403T214422Z
LAST-MODIFIED:20250422T132622Z
UID:10000917-1751065200-1751082300@miamiticketguide.com
SUMMARY:DeathMatch Apprentice - Improv Comedy Miami
DESCRIPTION:DeathMatch Apprentice – Improv Comedy Miami\nDeathMatch Apprentice Improv Comedy Miami – June 27\, 2025 at Just The Funny – Reserve your tickets now! \nGet ready for an epic night of laughter at Just The Funny in Miami! On Friday\, June 27\, 2025\, at 11:00 PM\, experience the high-energy DeathMatch Apprentice show\, where two teams of improvisers go head-to-head in a fast-paced comedy battle. The audience decides the winner\, making you part of the action!​ \nEvent Details: \n\nDate: Friday\, June 27\, 2025\nTime: 11:00 PM\nVenue: Just The Funny\, 3119 Coral Way\, Miami\, FL 33145\nTickets: $10 per person\nAge: All Ages​\n\nFeaturing members of the award-winning JTF cast alongside rising improv students and recent alums\, this one-hour show promises non-stop entertainment. Seating is arranged to keep parties together\, and while large groups may be split\, efforts will be made to seat them as close as possible. Please note that tickets are non-refundable after purchase. \nGet tickets for this event on: Buy Now. \nFor more details about upcoming events\, click here.
URL:https://miamiticketguide.com/event/deathmatch-apprentice-improv-comedy-3/
LOCATION:Just the Funny\, 3119 Coral Way\, Miami\, United States Of America
CATEGORIES:Arts & Theatre
ATTACH;FMTTYPE=image/jpeg:https://miamiticketguide.com/wp-content/uploads/2025/04/8144-deathmatch-apprentice-improv-comedy-miami.jpg
END:VEVENT
END:VCALENDAR