BEGIN:VCALENDAR
VERSION:2.0
PRODID:-//Miami Ticket Guide - ECPv6.15.17.1//NONSGML v1.0//EN
CALSCALE:GREGORIAN
METHOD:PUBLISH
X-WR-CALNAME:Miami Ticket Guide
X-ORIGINAL-URL:https://miamiticketguide.com
X-WR-CALDESC:Events for Miami Ticket Guide
REFRESH-INTERVAL;VALUE=DURATION:PT1H
X-Robots-Tag:noindex
X-PUBLISHED-TTL:PT1H
BEGIN:VTIMEZONE
TZID:America/New_York
BEGIN:DAYLIGHT
TZOFFSETFROM:-0500
TZOFFSETTO:-0400
TZNAME:EDT
DTSTART:20250309T070000
END:DAYLIGHT
BEGIN:STANDARD
TZOFFSETFROM:-0400
TZOFFSETTO:-0500
TZNAME:EST
DTSTART:20251102T060000
END:STANDARD
BEGIN:DAYLIGHT
TZOFFSETFROM:-0500
TZOFFSETTO:-0400
TZNAME:EDT
DTSTART:20260308T070000
END:DAYLIGHT
BEGIN:STANDARD
TZOFFSETFROM:-0400
TZOFFSETTO:-0500
TZNAME:EST
DTSTART:20261101T060000
END:STANDARD
BEGIN:DAYLIGHT
TZOFFSETFROM:-0500
TZOFFSETTO:-0400
TZNAME:EDT
DTSTART:20270314T070000
END:DAYLIGHT
BEGIN:STANDARD
TZOFFSETFROM:-0400
TZOFFSETTO:-0500
TZNAME:EST
DTSTART:20271107T060000
END:STANDARD
END:VTIMEZONE
BEGIN:VEVENT
DTSTART;TZID=America/New_York:20260305T193000
DTEND;TZID=America/New_York:20260306T003000
DTSTAMP:20260422T050035
CREATED:20250705T194312Z
LAST-MODIFIED:20260108T041108Z
UID:10001379-1772739000-1772757000@miamiticketguide.com
SUMMARY:The Naked Magicians (18+)
DESCRIPTION:The Naked Magicians\nThe Naked Magicians Fort Lauderdale Tickets – March 5\, 2026 at Wells Hall at The Parker – BUY NOW! \nThe Naked Magicians Fort Lauderdale tickets are available now for a bold\, funny\, and unforgettable live show. Catch this adults-only performance on Thursday\, March 5\, 2026\, at 7:30 PM at Wells Hall at The Parker in Fort Lauderdale. \nDirect from Australia\, The Naked Magicians (18+) is a global comedy-magic sensation seen by over 50 million viewers on major TV networks including NBC\, ABC\, FOX\, and CBS. Known for their appearances on America’s Got Talent and Entertainment Tonight\, the duo has performed in more than 300 cities worldwide and held a popular Las Vegas residency. \nThis high-energy show combines clever illusions\, sharp humor\, and playful audience interaction in a way that breaks every traditional magic rule. Designed for a fun date night or a memorable girls’ night out\, the performance delivers nonstop laughs with a confident\, cheeky twist. The show features adult language\, sexual references\, and male nudity\, making it strictly 18+ only. A valid photo ID is required for entry. \nSeating is limited\, with a maximum of nine tickets per order. Don’t miss your chance to experience one of the world’s funniest and most talked-about live shows. \nGet tickets for this event: BUY NOW. \nFor more details about upcoming events\, click here.
URL:https://miamiticketguide.com/event/the-naked-magicians-18/
LOCATION:Wells Hall at The Parker\, 707 NE 8th Street\, Ft Lauderdale\, United States Of America
CATEGORIES:Arts & Theatre
ATTACH;FMTTYPE=image/jpeg:https://miamiticketguide.com/wp-content/uploads/2025/07/The-Naked-Magicians-.jpg
END:VEVENT
END:VCALENDAR