BEGIN:VCALENDAR
VERSION:2.0
PRODID:-//Miami Ticket Guide - ECPv6.15.17.1//NONSGML v1.0//EN
CALSCALE:GREGORIAN
METHOD:PUBLISH
X-ORIGINAL-URL:https://miamiticketguide.com
X-WR-CALDESC:Events for Miami Ticket Guide
REFRESH-INTERVAL;VALUE=DURATION:PT1H
X-Robots-Tag:noindex
X-PUBLISHED-TTL:PT1H
BEGIN:VTIMEZONE
TZID:America/New_York
BEGIN:DAYLIGHT
TZOFFSETFROM:-0500
TZOFFSETTO:-0400
TZNAME:EDT
DTSTART:20240310T070000
END:DAYLIGHT
BEGIN:STANDARD
TZOFFSETFROM:-0400
TZOFFSETTO:-0500
TZNAME:EST
DTSTART:20241103T060000
END:STANDARD
BEGIN:DAYLIGHT
TZOFFSETFROM:-0500
TZOFFSETTO:-0400
TZNAME:EDT
DTSTART:20250309T070000
END:DAYLIGHT
BEGIN:STANDARD
TZOFFSETFROM:-0400
TZOFFSETTO:-0500
TZNAME:EST
DTSTART:20251102T060000
END:STANDARD
BEGIN:DAYLIGHT
TZOFFSETFROM:-0500
TZOFFSETTO:-0400
TZNAME:EDT
DTSTART:20260308T070000
END:DAYLIGHT
BEGIN:STANDARD
TZOFFSETFROM:-0400
TZOFFSETTO:-0500
TZNAME:EST
DTSTART:20261101T060000
END:STANDARD
END:VTIMEZONE
BEGIN:VEVENT
DTSTART;TZID=America/New_York:20250621T200000
DTEND;TZID=America/New_York:20250622T000000
DTSTAMP:20260424T150733
CREATED:20250519T004236Z
LAST-MODIFIED:20250528T134030Z
UID:10001127-1750536000-1750550400@miamiticketguide.com
SUMMARY:Thievery Corporation
DESCRIPTION:Thievery Corporation\n\nThievery Corporation Live in Miami Beach – June 21\, 2025 – Reserve your tickets now! \nGet ready for an unforgettable night as Thievery-corporation brings their genre-blending sound to the Miami Beach Bandshell on Saturday\, June 21\, 2025. Known for their unique fusion of dub\, bossa nova\, reggae\, and jazz\, this performance promises a vibrant and immersive musical journey. \n\nDate: Saturday\, June 21\, 2025\nTime: 8:00 PM (Doors open at 7:00 PM)\nVenue: Miami Beach Bandshell\, 7275 Collins Avenue\, Miami Beach\, FL 33141\nTickets: Starting at $47.50 for general admission\nAge: All ages welcome\n\nExperience the dynamic live show that has captivated audiences worldwide. With live instrumentation and diverse vocals\, Thievery Corporation delivers a performance that transcends musical boundaries. \nGet tickets for this event on: Buy Now. \nFor more details about upcoming events\, click here.
URL:https://miamiticketguide.com/event/thievery-corporation-live-miami-beach/
LOCATION:Miami Beach Bandshell\, 7275 Collins Avenue\, Miami Beach FL 33141\, Miami Beach\, United States Of America
CATEGORIES:Music
ATTACH;FMTTYPE=image/png:https://miamiticketguide.com/wp-content/uploads/2025/05/vc-74.png
END:VEVENT
END:VCALENDAR