BEGIN:VCALENDAR
VERSION:2.0
PRODID:-//Miami Ticket Guide - ECPv6.15.17.1//NONSGML v1.0//EN
CALSCALE:GREGORIAN
METHOD:PUBLISH
X-ORIGINAL-URL:https://miamiticketguide.com
X-WR-CALDESC:Events for Miami Ticket Guide
REFRESH-INTERVAL;VALUE=DURATION:PT1H
X-Robots-Tag:noindex
X-PUBLISHED-TTL:PT1H
BEGIN:VTIMEZONE
TZID:America/New_York
BEGIN:DAYLIGHT
TZOFFSETFROM:-0500
TZOFFSETTO:-0400
TZNAME:EDT
DTSTART:20240310T070000
END:DAYLIGHT
BEGIN:STANDARD
TZOFFSETFROM:-0400
TZOFFSETTO:-0500
TZNAME:EST
DTSTART:20241103T060000
END:STANDARD
BEGIN:DAYLIGHT
TZOFFSETFROM:-0500
TZOFFSETTO:-0400
TZNAME:EDT
DTSTART:20250309T070000
END:DAYLIGHT
BEGIN:STANDARD
TZOFFSETFROM:-0400
TZOFFSETTO:-0500
TZNAME:EST
DTSTART:20251102T060000
END:STANDARD
BEGIN:DAYLIGHT
TZOFFSETFROM:-0500
TZOFFSETTO:-0400
TZNAME:EDT
DTSTART:20260308T070000
END:DAYLIGHT
BEGIN:STANDARD
TZOFFSETFROM:-0400
TZOFFSETTO:-0500
TZNAME:EST
DTSTART:20261101T060000
END:STANDARD
END:VTIMEZONE
BEGIN:VEVENT
DTSTART;TZID=America/New_York:20250324T193000
DTEND;TZID=America/New_York:20250325T013000
DTSTAMP:20260423T175110
CREATED:20250224T184254Z
LAST-MODIFIED:20250310T162021Z
UID:10000218-1742844600-1742866200@miamiticketguide.com
SUMMARY:Tyler The Creator - Chromakopia: The World Tour - Mar 24 - Kaseya Center
DESCRIPTION:Tyler The Creator – Chromakopia: The World Tour – Mar 24 – Kaseya Center\nTyler\, The Creator – CHROMAKOPIA: THE WORLD TOUR \n\nWhen: Monday\, March 24\, 2025 • 7:30 PM\nWhere: Kaseya Center\, Miami\, FL\n\nBuy Tickets for this show: TicketMaster. \nGet ready\, Miami! Tyler\, The Creator is coming to town with his CHROMAKOPIA: THE WORLD TOUR\, and it’s going to be a night you won’t forget. If you’re a fan of his music\, his style\, or just love an incredible live show\, this is one event you have to be at. \nWhat’s the Vibe? \nTyler\, The Creator is known for pushing boundaries\, and this tour is no different. The name CHROMAKOPIA gives you a hint: think bold colors\, wild visuals\, and a stage setup that feels like stepping into another world. Whether you’re into his older hits or his latest tracks\, Tyler’s setlist is packed with fan favorites and surprises that’ll keep you dancing all night. \nClick here for the showtimes: TicketMaster. \nWhy Go? \n\nThe Music: From IGOR to CALL ME IF YOU GET LOST\, Tyler’s songs are a mix of hip-hop\, R&B\, and something totally unique. Hearing them live hits different.\nThe Energy: Tyler’s shows are famous for being high-energy\, fun\, and full of unexpected moments. He knows how to work a crowd\, and you’ll feel like you’re part of something special.\nThe Visuals: Expect a stage that’s as creative as Tyler himself—think bright lights\, cool props\, and a vibe that’s straight out of his music videos.\n\nReserve your spot now: TicketMaster. \nVenue Info: \nThe Kaseya Center is one of Miami’s best spots for big concerts. It’s easy to get to\, has great sound\, and plenty of space to dance or just soak in the show. \nTickets: \nTickets are going to go fast\, so don’t wait! Check out official ticket sites to grab yours before they’re gone. Look out for presales or VIP options if you want to make the night extra special. \nFinal Thoughts: \nTyler\, The Creator isn’t just a musician—he’s an artist\, a storyteller\, and a performer who knows how to put on a show. Whether you’ve been a fan for years or just discovered his music\, this tour is your chance to see one of the most creative minds in music today. \nMark your calendar for March 24\, 2025\, and get ready for an unforgettable night at the Kaseya Center. This isn’t just a concert—it’s an experience. Don’t miss it! \nGet tickets for this event on: TicketMaster. \nFor more event updates visit here.
URL:https://miamiticketguide.com/event/tyler-the-creator-chromakopia-the-world-tour/
LOCATION:Kaseya Center\, 601 Biscayne Blvd\, Miami\, United States Of America
CATEGORIES:Concerts
ATTACH;FMTTYPE=image/jpeg:https://miamiticketguide.com/wp-content/uploads/2025/02/2497-tyler-the-creator-chromakopia-the-world-tour.jpg
END:VEVENT
END:VCALENDAR