BEGIN:VCALENDAR
VERSION:2.0
PRODID:-//Miami Ticket Guide - ECPv6.15.17.1//NONSGML v1.0//EN
CALSCALE:GREGORIAN
METHOD:PUBLISH
X-WR-CALNAME:Miami Ticket Guide
X-ORIGINAL-URL:https://miamiticketguide.com
X-WR-CALDESC:Events for Miami Ticket Guide
REFRESH-INTERVAL;VALUE=DURATION:PT1H
X-Robots-Tag:noindex
X-PUBLISHED-TTL:PT1H
BEGIN:VTIMEZONE
TZID:America/New_York
BEGIN:DAYLIGHT
TZOFFSETFROM:-0500
TZOFFSETTO:-0400
TZNAME:EDT
DTSTART:20240310T070000
END:DAYLIGHT
BEGIN:STANDARD
TZOFFSETFROM:-0400
TZOFFSETTO:-0500
TZNAME:EST
DTSTART:20241103T060000
END:STANDARD
BEGIN:DAYLIGHT
TZOFFSETFROM:-0500
TZOFFSETTO:-0400
TZNAME:EDT
DTSTART:20250309T070000
END:DAYLIGHT
BEGIN:STANDARD
TZOFFSETFROM:-0400
TZOFFSETTO:-0500
TZNAME:EST
DTSTART:20251102T060000
END:STANDARD
BEGIN:DAYLIGHT
TZOFFSETFROM:-0500
TZOFFSETTO:-0400
TZNAME:EDT
DTSTART:20260308T070000
END:DAYLIGHT
BEGIN:STANDARD
TZOFFSETFROM:-0400
TZOFFSETTO:-0500
TZNAME:EST
DTSTART:20261101T060000
END:STANDARD
END:VTIMEZONE
BEGIN:VEVENT
DTSTART;TZID=America/New_York:20250404T213000
DTEND;TZID=America/New_York:20250405T023000
DTSTAMP:20260423T040045
CREATED:20250311T124237Z
LAST-MODIFIED:20250421T005004Z
UID:10000289-1743802200-1743820200@miamiticketguide.com
SUMMARY:Paradiso Theater Presents Unholy - Apr 4
DESCRIPTION:Paradiso Theater Presents Unholy – Apr 4\nGet Your Tickets for Paradiso Theater Presents Unholy\, now on TicketMaster! \nParadiso Theater presents Unholy\, an electrifying and provocative live performance that pushes the boundaries of entertainment. Witness an unforgettable night where saints and sinners collide in a thrilling spectacle of aerial acrobatics\, daring dance\, and breathtaking performances. \n\nDate & Time: Friday\, April 4\, 2025\, at 9:30 PM\nVenue: Paradiso Theater\, 320 Lincoln Rd\, Miami Beach\, FL 33139\, USA\nAge Restriction: 21 and above\n\nEnter a world where grace meets chaos\, and the lines between virtue and vice blur. From Miami Beach to the shadows of Babylon\, a fearless cast of acrobats\, dancers\, and aerialists will captivate and entice with gravity-defying feats and seductive performances. \nWhat to Expect: \n\nJaw-dropping acrobatics & dance by world-class performers\nA bold\, immersive experience like no other\nAn electrifying\, seductive atmosphere in the heart of Miami Beach\nNo rules\, no salvation—just pure entertainment\n\nSecure your tickets now and surrender to the thrill of Unholy: BUY NOW. \nFor more details about upcoming events\, click here.
URL:https://miamiticketguide.com/event/paradiso-theater-presents-unholy-5/
LOCATION:Paradiso Theater\, 320 Lincoln Rd\, Miami Beach\, United States Of America
CATEGORIES:Arts & Theatre
ATTACH;FMTTYPE=image/jpeg:https://miamiticketguide.com/wp-content/uploads/2025/04/paradiso-theater-presents-unholy_0.jpg
END:VEVENT
END:VCALENDAR