BEGIN:VCALENDAR
VERSION:2.0
PRODID:-//Miami Ticket Guide - ECPv6.15.17.1//NONSGML v1.0//EN
CALSCALE:GREGORIAN
METHOD:PUBLISH
X-ORIGINAL-URL:https://miamiticketguide.com
X-WR-CALDESC:Events for Miami Ticket Guide
REFRESH-INTERVAL;VALUE=DURATION:PT1H
X-Robots-Tag:noindex
X-PUBLISHED-TTL:PT1H
BEGIN:VTIMEZONE
TZID:America/New_York
BEGIN:DAYLIGHT
TZOFFSETFROM:-0500
TZOFFSETTO:-0400
TZNAME:EDT
DTSTART:20240310T070000
END:DAYLIGHT
BEGIN:STANDARD
TZOFFSETFROM:-0400
TZOFFSETTO:-0500
TZNAME:EST
DTSTART:20241103T060000
END:STANDARD
BEGIN:DAYLIGHT
TZOFFSETFROM:-0500
TZOFFSETTO:-0400
TZNAME:EDT
DTSTART:20250309T070000
END:DAYLIGHT
BEGIN:STANDARD
TZOFFSETFROM:-0400
TZOFFSETTO:-0500
TZNAME:EST
DTSTART:20251102T060000
END:STANDARD
BEGIN:DAYLIGHT
TZOFFSETFROM:-0500
TZOFFSETTO:-0400
TZNAME:EDT
DTSTART:20260308T070000
END:DAYLIGHT
BEGIN:STANDARD
TZOFFSETFROM:-0400
TZOFFSETTO:-0500
TZNAME:EST
DTSTART:20261101T060000
END:STANDARD
END:VTIMEZONE
BEGIN:VEVENT
DTSTART;TZID=America/New_York:20250424T193000
DTEND;TZID=America/New_York:20250425T033000
DTSTAMP:20260423T034733
CREATED:20250412T064319Z
LAST-MODIFIED:20250417T184351Z
UID:10000815-1745523000-1745551800@miamiticketguide.com
SUMMARY:Concacaf Champions Cup Semifinal: Whitecaps FC v Inter Miami CF
DESCRIPTION:Concacaf Champions Cup Semifinal: Whitecaps FC v Inter Miami CF\nGet your tickets for Whitecaps FC vs. Inter Miami CF on Thursday\, April 24\, 2025 – Reserve your tickets now! \nGet ready for a thrilling showdown as Vancouver Whitecaps FC host Inter Miami CF in the first leg of the Concacaf Champions Cup Semifinals at BC Place in Vancouver\, BC. The match kicks off at 7:30 PM PT\, with doors opening at 6:00 PM. This high-stakes game brings together top talent\, including the much-anticipated appearance of Lionel Messi. Don’t miss this chance to witness soccer history in the making!​ \nKey Highlights: \n\nMatchup: Whitecaps FC vs. Inter Miami CF\nDate & Time: Thursday\, April 24\, 2025\, at 7:30 PM PT\nVenue: BC Place\, Vancouver\, BC\nDoors Open: 6:00 PM\nTickets: Starting from $152 USD (approx. $211 CAD) ​\n\nJoin fellow soccer fans for an evening of top-tier action and support your team in this must-see match. Secure your tickets today and be part of the excitement!​ \nGet tickets for this event on: Buy Now. \nFor more details about upcoming events\, click here. \n 
URL:https://miamiticketguide.com/event/concacaf-champions-cup-semifinal/
LOCATION:BC Place\, 777 Pacific Blvd.\, Vancouver\, Canada
CATEGORIES:Sports
ATTACH;FMTTYPE=image/jpeg:https://miamiticketguide.com/wp-content/uploads/2025/04/8529-concacaf-champions-cup-semifinal-whitecaps-fc-v-inter-miami-cf.jpg
END:VEVENT
END:VCALENDAR