BEGIN:VCALENDAR
VERSION:2.0
PRODID:-//Miami Ticket Guide - ECPv6.15.17.1//NONSGML v1.0//EN
CALSCALE:GREGORIAN
METHOD:PUBLISH
X-WR-CALNAME:Miami Ticket Guide
X-ORIGINAL-URL:https://miamiticketguide.com
X-WR-CALDESC:Events for Miami Ticket Guide
REFRESH-INTERVAL;VALUE=DURATION:PT1H
X-Robots-Tag:noindex
X-PUBLISHED-TTL:PT1H
BEGIN:VTIMEZONE
TZID:America/New_York
BEGIN:DAYLIGHT
TZOFFSETFROM:-0500
TZOFFSETTO:-0400
TZNAME:EDT
DTSTART:20240310T070000
END:DAYLIGHT
BEGIN:STANDARD
TZOFFSETFROM:-0400
TZOFFSETTO:-0500
TZNAME:EST
DTSTART:20241103T060000
END:STANDARD
BEGIN:DAYLIGHT
TZOFFSETFROM:-0500
TZOFFSETTO:-0400
TZNAME:EDT
DTSTART:20250309T070000
END:DAYLIGHT
BEGIN:STANDARD
TZOFFSETFROM:-0400
TZOFFSETTO:-0500
TZNAME:EST
DTSTART:20251102T060000
END:STANDARD
BEGIN:DAYLIGHT
TZOFFSETFROM:-0500
TZOFFSETTO:-0400
TZNAME:EDT
DTSTART:20260308T070000
END:DAYLIGHT
BEGIN:STANDARD
TZOFFSETFROM:-0400
TZOFFSETTO:-0500
TZNAME:EST
DTSTART:20261101T060000
END:STANDARD
END:VTIMEZONE
BEGIN:VEVENT
DTSTART;TZID=America/New_York:20250709T193000
DTEND;TZID=America/New_York:20250710T003000
DTSTAMP:20260419T122009
CREATED:20250220T040423Z
LAST-MODIFIED:20250324T064619Z
UID:10000622-1752089400-1752107400@miamiticketguide.com
SUMMARY:New England Revolution vs Inter Miami CF
DESCRIPTION:New England Revolution vs Inter Miami CF\nGet Your Tickets for New England Revolution vs Inter Miami CF\, now on TicketMaster! \nDon’t miss the intense MLS showdown between New England Revolution and Inter Miami CF at Gillette Stadium! Watch top-tier soccer action live as these two teams battle it out for victory in Foxborough\, MA. Grab your tickets now and be part of the electrifying atmosphere! \nMatch Details: \n\nDate: Wednesday\, July 9\, 2025\nKickoff: 7:30 PM\nVenue: Gillette Stadium\, Foxborough\, MA\n\nImportant Ticket Information: \n\nNew Gillette Stadium Clear Bag Policy in effect.\nOnly gallon-sized clear freezer bags or authorized clear bags (12″ x 12″ x 6″) allowed.\nWomen’s clutches must not exceed 7″ x 4″ x 2″ (size of a hand).\n8-ticket limit per order.\n\nSecure your seats now and experience MLS action live! Limited tickets available – buy now from TicketMaster. \nFor more details about upcoming events\, click here.
URL:https://miamiticketguide.com/event/new-england-revolution-vs-inter-miami-cf-jul-09/
LOCATION:Gillette Stadium\, 1 Patriot Place\, Foxborough\, United States Of America
CATEGORIES:Inter Miami CF,Sports
ATTACH;FMTTYPE=image/jpeg:https://miamiticketguide.com/wp-content/uploads/2025/02/1016-new-england-revolution-vs-inter-miami-cf.jpg
END:VEVENT
END:VCALENDAR