BEGIN:VCALENDAR
VERSION:2.0
PRODID:-//Miami Ticket Guide - ECPv6.15.17.1//NONSGML v1.0//EN
CALSCALE:GREGORIAN
METHOD:PUBLISH
X-WR-CALNAME:Miami Ticket Guide
X-ORIGINAL-URL:https://miamiticketguide.com
X-WR-CALDESC:Events for Miami Ticket Guide
REFRESH-INTERVAL;VALUE=DURATION:PT1H
X-Robots-Tag:noindex
X-PUBLISHED-TTL:PT1H
BEGIN:VTIMEZONE
TZID:America/New_York
BEGIN:DAYLIGHT
TZOFFSETFROM:-0500
TZOFFSETTO:-0400
TZNAME:EDT
DTSTART:20240310T070000
END:DAYLIGHT
BEGIN:STANDARD
TZOFFSETFROM:-0400
TZOFFSETTO:-0500
TZNAME:EST
DTSTART:20241103T060000
END:STANDARD
BEGIN:DAYLIGHT
TZOFFSETFROM:-0500
TZOFFSETTO:-0400
TZNAME:EDT
DTSTART:20250309T070000
END:DAYLIGHT
BEGIN:STANDARD
TZOFFSETFROM:-0400
TZOFFSETTO:-0500
TZNAME:EST
DTSTART:20251102T060000
END:STANDARD
BEGIN:DAYLIGHT
TZOFFSETFROM:-0500
TZOFFSETTO:-0400
TZNAME:EDT
DTSTART:20260308T070000
END:DAYLIGHT
BEGIN:STANDARD
TZOFFSETFROM:-0400
TZOFFSETTO:-0500
TZNAME:EST
DTSTART:20261101T060000
END:STANDARD
END:VTIMEZONE
BEGIN:VEVENT
DTSTART;TZID=America/New_York:20250307T190500
DTEND;TZID=America/New_York:20250308T000500
DTSTAMP:20260423T134710
CREATED:20250221T200225Z
LAST-MODIFIED:20250306T154002Z
UID:10000109-1741374300-1741392300@miamiticketguide.com
SUMMARY:Miami RedHawks vs. Western Michigan Broncos Hockey - Mar 7 - Goggin Ice Center
DESCRIPTION:Miami RedHawks vs. Western Michigan Broncos Hockey – Mar 7 – Goggin Ice Center\nGet ready for an electrifying showdown as the Miami (OH) RedHawks take on the Western Michigan Broncos in a high-stakes hockey battle! \n\nDate: Friday\, March 7\, 2025\nTime: 7:05 PM\nLocation: Goggin Ice Center\, Oxford\, OH\nClick here for the showtimes: TicketMaster.\n\nThe last time these two teams met\, the No. 3/4 ranked Broncos edged out the RedHawks in a 2-0 defensive battle. Miami’s goaltender Brett Miller put up a stellar fight with a season-high 31 saves\, but Western Michigan held strong. Now\, it’s time for the RedHawks to fight back on home ice! \nCheck the available seats here: TicketMaster. \nExpect fast-paced action\, hard-hitting plays\, and a crowd ready to erupt as these fierce conference rivals go head-to-head. Will Miami pull off the upset\, or will Western Michigan continue their dominance? \nGrab your tickets now and witness the excitement live at Goggin Ice Center! Don’t miss out! \nWho’s your pick to win? Let’s hear your predictions! \nGet tickets for this event on: TicketMaster. \nClick here for more event updates.
URL:https://miamiticketguide.com/event/miami-redhawks-vs-western-michigan-broncos-hockey-mar-7/
LOCATION:Goggin Ice Center\, 610 S. Oak St.\, Oxford\, United States Of America
CATEGORIES:Sports
ATTACH;FMTTYPE=image/jpeg:https://miamiticketguide.com/wp-content/uploads/2025/02/1645-miami-of-ohio-redhawks-hockey-vs-western-michigan-broncos-hockey.jpg
END:VEVENT
END:VCALENDAR