BEGIN:VCALENDAR
VERSION:2.0
PRODID:-//Miami Ticket Guide - ECPv6.15.17.1//NONSGML v1.0//EN
CALSCALE:GREGORIAN
METHOD:PUBLISH
X-ORIGINAL-URL:https://miamiticketguide.com
X-WR-CALDESC:Events for Miami Ticket Guide
REFRESH-INTERVAL;VALUE=DURATION:PT1H
X-Robots-Tag:noindex
X-PUBLISHED-TTL:PT1H
BEGIN:VTIMEZONE
TZID:America/New_York
BEGIN:DAYLIGHT
TZOFFSETFROM:-0500
TZOFFSETTO:-0400
TZNAME:EDT
DTSTART:20240310T070000
END:DAYLIGHT
BEGIN:STANDARD
TZOFFSETFROM:-0400
TZOFFSETTO:-0500
TZNAME:EST
DTSTART:20241103T060000
END:STANDARD
BEGIN:DAYLIGHT
TZOFFSETFROM:-0500
TZOFFSETTO:-0400
TZNAME:EDT
DTSTART:20250309T070000
END:DAYLIGHT
BEGIN:STANDARD
TZOFFSETFROM:-0400
TZOFFSETTO:-0500
TZNAME:EST
DTSTART:20251102T060000
END:STANDARD
BEGIN:DAYLIGHT
TZOFFSETFROM:-0500
TZOFFSETTO:-0400
TZNAME:EDT
DTSTART:20260308T070000
END:DAYLIGHT
BEGIN:STANDARD
TZOFFSETFROM:-0400
TZOFFSETTO:-0500
TZNAME:EST
DTSTART:20261101T060000
END:STANDARD
END:VTIMEZONE
BEGIN:VEVENT
DTSTART;TZID=America/New_York:20250308T180000
DTEND;TZID=America/New_York:20250308T230000
DTSTAMP:20260423T085430
CREATED:20250221T103244Z
LAST-MODIFIED:20250306T173656Z
UID:10000113-1741456800-1741474800@miamiticketguide.com
SUMMARY:Miami Hurricanes Baseball vs UConn Huskies Baseball - Mar 8 - Mark Light Field
DESCRIPTION:Miami Hurricanes Baseball vs UConn Huskies Baseball – Mar 8 – Mark Light Field\nMiami Hurricanes vs. UConn Huskies – College Baseball Showdown! \n\nDate: Saturday\, March 8\, 2025\nTime: 6:00 PM EST\nLocation: Mark Light Field\, Miami\, FL\nClick here for the showtimes: TicketMaster.\n\nGet ready for an electrifying evening of college baseball as the Miami Hurricanes take on the UConn Huskies in a high-stakes showdown at Mark Light Field! \nWhy You Can’t Miss This Game: \n\nTop-Tier Matchup – Two powerhouse teams go head-to-head in what promises to be an intense battle on the diamond.\nElectric Atmosphere – Experience the thrill of college baseball under the lights with passionate fans and an unbeatable game-day vibe.\nMark Light Shakes & Ballpark Eats – Don’t forget to grab one of the legendary milkshakes while cheering for your team!\nSecure Your Spot! – Tickets are expected to sell fast\, so grab yours now and be part of the action!\n\nCheck the available seats here: TicketMaster. \nWho Will Dominate the Field? \nMiami Hurricanes – A legacy of excellence\, dominant pitching\, and a powerhouse lineup ready to defend their home turf! \nUConn Huskies – A rising force in college baseball\, bringing grit\, determination\, and a hunger for victory! \nBe There & Bring the Energy! \nWhether you’re a die-hard fan or just looking for an exciting night out\, this is the game you don’t want to miss! Mark your calendar\, rally your crew\, and let’s pack Mark Light Field for an unforgettable Hurricanes vs. Huskies showdown! \nGet your tickets now before they’re gone! \nGet tickets for this event on: TicketMaster. \nClick here for more event updates.
URL:https://miamiticketguide.com/event/miami-hurricanes-baseball-vs-uconn-huskies-baseball-mar-8/
LOCATION:Mark Light Field\, Miami\, United States Of America
CATEGORIES:Miami Hurricanes,Sports
ATTACH;FMTTYPE=image/jpeg:https://miamiticketguide.com/wp-content/uploads/2025/02/1528-miami-hurricanes-baseball-vs-uconn-huskies-baseball.jpg
END:VEVENT
BEGIN:VEVENT
DTSTART;TZID=America/New_York:20250307T190000
DTEND;TZID=America/New_York:20250308T000000
DTSTAMP:20260423T085430
CREATED:20250221T090802Z
LAST-MODIFIED:20250306T133242Z
UID:10000106-1741374000-1741392000@miamiticketguide.com
SUMMARY:Miami Hurricanes vs UConn Huskies Baseball - Mar 7 - Mark Light Field
DESCRIPTION:Miami Hurricanes vs UConn Huskies Baseball – Mar 7 – Mark Light Field\nMiami Hurricanes Baseball vs. UConn Huskies Baseball \n\n📅 Date: Friday\, March 7\, 2025\n⏰ Time: 7:00 PM ET\n📍 Location: Mark Light Field\, Miami\, FL\nClick here for the showtimes: TicketMaster.\n\nGame Overview: \nGet ready for an intense baseball showdown as the Miami Hurricanes take on the UConn Huskies on March 7\, 2025\, at Mark Light Field in Miami\, FL. This game is set to be a thrilling match\, with both teams looking to make a statement in their season. \nCheck the available seats here: TicketMaster. \nWhat’s at Stake? \n• Miami Hurricanes\, known for their powerhouse offense and solid pitching\, are ready to defend their home field.\n• The UConn Huskies\, with their strong lineup and competitive spirit\, are looking to take down the Hurricanes and prove they belong at the top.\n• This game is crucial for both teams as they aim to boost their standings and momentum for the season ahead. \nBuy tickets for this game on: TicketMaster. \nKey Highlights: \n✅ Miami’s star players will be in full force\, bringing their signature power hitting and sharp defense. \n✅ UConn aims to challenge the Hurricanes with their strong pitching and team coordination. \n✅ Expect a fast-paced game full of action and standout moments. \n🎟 Tickets & Viewing Options: \n• Want to experience the excitement live? 🎟 Get your tickets now and be part of the action at Mark Light Field! \nDon’t miss this exciting baseball battle between the Miami Hurricanes and UConn Huskies! Who will come out on top? Be there to find out! \nGet tickets for this event on: TicketMaster. \nClick here for more event updates.
URL:https://miamiticketguide.com/event/miami-hurricanes-vs-uconn-huskies-baseball-mar-7/
LOCATION:Mark Light Field\, Miami\, United States Of America
CATEGORIES:Miami Hurricanes,Sports
ATTACH;FMTTYPE=image/jpeg:https://miamiticketguide.com/wp-content/uploads/2025/02/1449-miami-hurricanes-baseball-vs-uconn-huskies-baseball.jpg
END:VEVENT
END:VCALENDAR