BEGIN:VCALENDAR
VERSION:2.0
PRODID:-//Miami Ticket Guide - ECPv6.15.17.1//NONSGML v1.0//EN
CALSCALE:GREGORIAN
METHOD:PUBLISH
X-WR-CALNAME:Miami Ticket Guide
X-ORIGINAL-URL:https://miamiticketguide.com
X-WR-CALDESC:Events for Miami Ticket Guide
REFRESH-INTERVAL;VALUE=DURATION:PT1H
X-Robots-Tag:noindex
X-PUBLISHED-TTL:PT1H
BEGIN:VTIMEZONE
TZID:America/New_York
BEGIN:DAYLIGHT
TZOFFSETFROM:-0500
TZOFFSETTO:-0400
TZNAME:EDT
DTSTART:20240310T070000
END:DAYLIGHT
BEGIN:STANDARD
TZOFFSETFROM:-0400
TZOFFSETTO:-0500
TZNAME:EST
DTSTART:20241103T060000
END:STANDARD
BEGIN:DAYLIGHT
TZOFFSETFROM:-0500
TZOFFSETTO:-0400
TZNAME:EDT
DTSTART:20250309T070000
END:DAYLIGHT
BEGIN:STANDARD
TZOFFSETFROM:-0400
TZOFFSETTO:-0500
TZNAME:EST
DTSTART:20251102T060000
END:STANDARD
BEGIN:DAYLIGHT
TZOFFSETFROM:-0500
TZOFFSETTO:-0400
TZNAME:EDT
DTSTART:20260308T070000
END:DAYLIGHT
BEGIN:STANDARD
TZOFFSETFROM:-0400
TZOFFSETTO:-0500
TZNAME:EST
DTSTART:20261101T060000
END:STANDARD
END:VTIMEZONE
BEGIN:VEVENT
DTSTART;TZID=America/New_York:20251019T000000
DTEND;TZID=America/New_York:20251019T210000
DTSTAMP:20260419T085901
CREATED:20250313T114246Z
LAST-MODIFIED:20250327T181017Z
UID:10000767-1760832000-1760907600@miamiticketguide.com
SUMMARY:Birmingham Legion FC vs Miami FC - Oct 19 - Protective Stadium
DESCRIPTION:Birmingham Legion FC vs Miami FC – Oct 19 – Protective Stadium\nBirmingham Legion FC vs. Miami FC – Don’t Miss This Match! \nWhen? Sunday\, October 19\, 2025 – 4:00 PM \nWhere? Protective Stadium\, Birmingham\, AL \nClick here for the showtimes: BUY NOW. \nGet ready for an exciting afternoon of soccer as Birmingham Legion FC takes on Miami FC at home! This is a big match in the USL Championship\, and both teams will be fighting hard for the win. \nBirmingham’s got a strong squad and amazing fan support\, so expect a lively atmosphere at Protective Stadium. Miami FC won’t make it easy\, though—they play fast\, smart and love to counterattack. \nGrab your seats early: BUY NOW. \nWhether you’re a die-hard Legion fan or just love good soccer\, this is a game you won’t want to miss. Grab your tickets\, bring your friends\, and let’s cheer on the boys in black and gold! \nGet tickets for this event: BUY NOW. \nFor more event updates\, visit here.
URL:https://miamiticketguide.com/event/birmingham-legion-fc-vs-miami-fc-oct-19/
LOCATION:Protective Stadium\, 1020 24TH Street North\, Birmingham\, United States Of America
CATEGORIES:Sports
ATTACH;FMTTYPE=image/jpeg:https://miamiticketguide.com/wp-content/uploads/2025/03/5279-birmingham-legion-fc-vs-miami-fc.jpg
END:VEVENT
END:VCALENDAR